BEGIN:VCALENDAR
VERSION:2.0
PRODID:-//Hagfors-Uddeholms Pistolskytteklubb - ECPv6.15.20//NONSGML v1.0//EN
CALSCALE:GREGORIAN
METHOD:PUBLISH
X-WR-CALNAME:Hagfors-Uddeholms Pistolskytteklubb
X-ORIGINAL-URL:https://hupk.se
X-WR-CALDESC:Händelser för Hagfors-Uddeholms Pistolskytteklubb
REFRESH-INTERVAL;VALUE=DURATION:PT1H
X-Robots-Tag:noindex
X-PUBLISHED-TTL:PT1H
BEGIN:VTIMEZONE
TZID:Europe/Stockholm
BEGIN:DAYLIGHT
TZOFFSETFROM:+0100
TZOFFSETTO:+0200
TZNAME:CEST
DTSTART:20220327T010000
END:DAYLIGHT
BEGIN:STANDARD
TZOFFSETFROM:+0200
TZOFFSETTO:+0100
TZNAME:CET
DTSTART:20221030T010000
END:STANDARD
BEGIN:DAYLIGHT
TZOFFSETFROM:+0100
TZOFFSETTO:+0200
TZNAME:CEST
DTSTART:20230326T010000
END:DAYLIGHT
BEGIN:STANDARD
TZOFFSETFROM:+0200
TZOFFSETTO:+0100
TZNAME:CET
DTSTART:20231029T010000
END:STANDARD
BEGIN:DAYLIGHT
TZOFFSETFROM:+0100
TZOFFSETTO:+0200
TZNAME:CEST
DTSTART:20240331T010000
END:DAYLIGHT
BEGIN:STANDARD
TZOFFSETFROM:+0200
TZOFFSETTO:+0100
TZNAME:CET
DTSTART:20241027T010000
END:STANDARD
END:VTIMEZONE
BEGIN:VEVENT
DTSTART;TZID=Europe/Stockholm:20230903T090000
DTEND;TZID=Europe/Stockholm:20230903T180000
DTSTAMP:20260423T125305
CREATED:20230722T092531Z
LAST-MODIFIED:20230722T092531Z
UID:174-1693731600-1693764000@hupk.se
SUMMARY:Värmlandscup 2023 - PCC
DESCRIPTION:Söndag 3 september är det dags för IPSC PCC tävlingen\, Värmlandscup 2023! \nSkytte från deltagande Värmlandska klubbar har förtur\, men registrering öppnas för alla skytte 27 augusti. \n  \n 
URL:https://hupk.se/event/varmlandscup-2023-pcc/
LOCATION:Vågbacken skjutbana\, Vågbacken skjutbana\, Hagfors\, 68340\, Sweden
END:VEVENT
END:VCALENDAR