BEGIN:VCALENDAR
VERSION:2.0
PRODID:-//Hagfors-Uddeholms Pistolskytteklubb - ECPv6.15.20//NONSGML v1.0//EN
CALSCALE:GREGORIAN
METHOD:PUBLISH
X-WR-CALNAME:Hagfors-Uddeholms Pistolskytteklubb
X-ORIGINAL-URL:https://hupk.se
X-WR-CALDESC:Händelser för Hagfors-Uddeholms Pistolskytteklubb
REFRESH-INTERVAL;VALUE=DURATION:PT1H
X-Robots-Tag:noindex
X-PUBLISHED-TTL:PT1H
BEGIN:VTIMEZONE
TZID:Europe/Stockholm
BEGIN:DAYLIGHT
TZOFFSETFROM:+0100
TZOFFSETTO:+0200
TZNAME:CEST
DTSTART:20220327T010000
END:DAYLIGHT
BEGIN:STANDARD
TZOFFSETFROM:+0200
TZOFFSETTO:+0100
TZNAME:CET
DTSTART:20221030T010000
END:STANDARD
BEGIN:DAYLIGHT
TZOFFSETFROM:+0100
TZOFFSETTO:+0200
TZNAME:CEST
DTSTART:20230326T010000
END:DAYLIGHT
BEGIN:STANDARD
TZOFFSETFROM:+0200
TZOFFSETTO:+0100
TZNAME:CET
DTSTART:20231029T010000
END:STANDARD
BEGIN:DAYLIGHT
TZOFFSETFROM:+0100
TZOFFSETTO:+0200
TZNAME:CEST
DTSTART:20240331T010000
END:DAYLIGHT
BEGIN:STANDARD
TZOFFSETFROM:+0200
TZOFFSETTO:+0100
TZNAME:CET
DTSTART:20241027T010000
END:STANDARD
END:VTIMEZONE
BEGIN:VEVENT
DTSTART;TZID=Europe/Stockholm:20230914T140000
DTEND;TZID=Europe/Stockholm:20230914T170000
DTSTAMP:20260423T124843
CREATED:20230831T171307Z
LAST-MODIFIED:20230831T171307Z
UID:272-1694700000-1694710800@hupk.se
SUMMARY:Rikstävling Militär Snabbmatch
DESCRIPTION:Vi skjuter Rikstävlingen i Milsnabb så 25-meters banan är upptagen då. \nStart kl 14.00
URL:https://hupk.se/event/rikstavling-militar-snabbmatch/
END:VEVENT
END:VCALENDAR