BEGIN:VCALENDAR
VERSION:2.0
PRODID:-//Hagfors-Uddeholms Pistolskytteklubb - ECPv6.15.20//NONSGML v1.0//EN
CALSCALE:GREGORIAN
METHOD:PUBLISH
X-WR-CALNAME:Hagfors-Uddeholms Pistolskytteklubb
X-ORIGINAL-URL:https://hupk.se
X-WR-CALDESC:Händelser för Hagfors-Uddeholms Pistolskytteklubb
REFRESH-INTERVAL;VALUE=DURATION:PT1H
X-Robots-Tag:noindex
X-PUBLISHED-TTL:PT1H
BEGIN:VTIMEZONE
TZID:Europe/Stockholm
BEGIN:DAYLIGHT
TZOFFSETFROM:+0100
TZOFFSETTO:+0200
TZNAME:CEST
DTSTART:20230326T010000
END:DAYLIGHT
BEGIN:STANDARD
TZOFFSETFROM:+0200
TZOFFSETTO:+0100
TZNAME:CET
DTSTART:20231029T010000
END:STANDARD
BEGIN:DAYLIGHT
TZOFFSETFROM:+0100
TZOFFSETTO:+0200
TZNAME:CEST
DTSTART:20240331T010000
END:DAYLIGHT
BEGIN:STANDARD
TZOFFSETFROM:+0200
TZOFFSETTO:+0100
TZNAME:CET
DTSTART:20241027T010000
END:STANDARD
BEGIN:DAYLIGHT
TZOFFSETFROM:+0100
TZOFFSETTO:+0200
TZNAME:CEST
DTSTART:20250330T010000
END:DAYLIGHT
BEGIN:STANDARD
TZOFFSETFROM:+0200
TZOFFSETTO:+0100
TZNAME:CET
DTSTART:20251026T010000
END:STANDARD
END:VTIMEZONE
BEGIN:VEVENT
DTSTART;TZID=Europe/Stockholm:20240203T090000
DTEND;TZID=Europe/Stockholm:20240203T170000
DTSTAMP:20260423T043923
CREATED:20231127T094840Z
LAST-MODIFIED:20240119T101414Z
UID:340-1706950800-1706979600@hupk.se
SUMMARY:Vinterfält 2
DESCRIPTION:HUPK:s årliga vinterfält. \nBestår av ett antal tävlingsdagar som avslutas med klubbmästerskap i alla fyra vapenklasserna.
URL:https://hupk.se/event/vinterfalt-3/
CATEGORIES:Fält
END:VEVENT
END:VCALENDAR