BEGIN:VCALENDAR
VERSION:2.0
PRODID:-//Hagfors-Uddeholms Pistolskytteklubb - ECPv6.15.20//NONSGML v1.0//EN
CALSCALE:GREGORIAN
METHOD:PUBLISH
X-ORIGINAL-URL:https://hupk.se
X-WR-CALDESC:Händelser för Hagfors-Uddeholms Pistolskytteklubb
REFRESH-INTERVAL;VALUE=DURATION:PT1H
X-Robots-Tag:noindex
X-PUBLISHED-TTL:PT1H
BEGIN:VTIMEZONE
TZID:Europe/Stockholm
BEGIN:DAYLIGHT
TZOFFSETFROM:+0100
TZOFFSETTO:+0200
TZNAME:CEST
DTSTART:20240331T010000
END:DAYLIGHT
BEGIN:STANDARD
TZOFFSETFROM:+0200
TZOFFSETTO:+0100
TZNAME:CET
DTSTART:20241027T010000
END:STANDARD
BEGIN:DAYLIGHT
TZOFFSETFROM:+0100
TZOFFSETTO:+0200
TZNAME:CEST
DTSTART:20250330T010000
END:DAYLIGHT
BEGIN:STANDARD
TZOFFSETFROM:+0200
TZOFFSETTO:+0100
TZNAME:CET
DTSTART:20251026T010000
END:STANDARD
BEGIN:DAYLIGHT
TZOFFSETFROM:+0100
TZOFFSETTO:+0200
TZNAME:CEST
DTSTART:20260329T010000
END:DAYLIGHT
BEGIN:STANDARD
TZOFFSETFROM:+0200
TZOFFSETTO:+0100
TZNAME:CET
DTSTART:20261025T010000
END:STANDARD
END:VTIMEZONE
BEGIN:VEVENT
DTSTART;TZID=Europe/Stockholm:20250803T090000
DTEND;TZID=Europe/Stockholm:20250803T120000
DTSTAMP:20260420T023204
CREATED:20250725T193705Z
LAST-MODIFIED:20250725T193720Z
UID:1141-1754211600-1754222400@hupk.se
SUMMARY:Arbetsdag inför Fälttävlingen
DESCRIPTION:Ordna med figurer och annat inför tävlingen den 10:e augusti \n 
URL:https://hupk.se/event/arbetsdag-infor-falttavlingen/
END:VEVENT
BEGIN:VEVENT
DTSTART;TZID=Europe/Stockholm:20250803T120000
DTEND;TZID=Europe/Stockholm:20250803T170000
DTSTAMP:20260420T023204
CREATED:20250725T194137Z
LAST-MODIFIED:20250725T194137Z
UID:1143-1754222400-1754240400@hupk.se
SUMMARY:Sommarfest och invigning av nya skjuthallen
DESCRIPTION:Vi firar den nya skjuthallen. \nEfter arbetsdagen så grillar vi och skjuter fält (typ vinterfält) \nAlla är välkomna \nKostnad: 100 kr (Mat ingår)
URL:https://hupk.se/event/sommarfest-och-invigning-av-nya-skjuthallen/
END:VEVENT
END:VCALENDAR