BEGIN:VCALENDAR
VERSION:2.0
PRODID:-//Hagfors-Uddeholms Pistolskytteklubb - ECPv6.15.20//NONSGML v1.0//EN
CALSCALE:GREGORIAN
METHOD:PUBLISH
X-ORIGINAL-URL:https://hupk.se
X-WR-CALDESC:Händelser för Hagfors-Uddeholms Pistolskytteklubb
REFRESH-INTERVAL;VALUE=DURATION:PT1H
X-Robots-Tag:noindex
X-PUBLISHED-TTL:PT1H
BEGIN:VTIMEZONE
TZID:Europe/Stockholm
BEGIN:DAYLIGHT
TZOFFSETFROM:+0100
TZOFFSETTO:+0200
TZNAME:CEST
DTSTART:20240331T010000
END:DAYLIGHT
BEGIN:STANDARD
TZOFFSETFROM:+0200
TZOFFSETTO:+0100
TZNAME:CET
DTSTART:20241027T010000
END:STANDARD
BEGIN:DAYLIGHT
TZOFFSETFROM:+0100
TZOFFSETTO:+0200
TZNAME:CEST
DTSTART:20250330T010000
END:DAYLIGHT
BEGIN:STANDARD
TZOFFSETFROM:+0200
TZOFFSETTO:+0100
TZNAME:CET
DTSTART:20251026T010000
END:STANDARD
BEGIN:DAYLIGHT
TZOFFSETFROM:+0100
TZOFFSETTO:+0200
TZNAME:CEST
DTSTART:20260329T010000
END:DAYLIGHT
BEGIN:STANDARD
TZOFFSETFROM:+0200
TZOFFSETTO:+0100
TZNAME:CET
DTSTART:20261025T010000
END:STANDARD
END:VTIMEZONE
BEGIN:VEVENT
DTSTART;TZID=Europe/Stockholm:20251021T170000
DTEND;TZID=Europe/Stockholm:20251021T200000
DTSTAMP:20260419T232614
CREATED:20251019T070654Z
LAST-MODIFIED:20251019T070654Z
UID:1222-1761066000-1761076800@hupk.se
SUMMARY:Tisdagsträning
DESCRIPTION:Årets sista Tisdagsträning i precision på Vågbacken. \n 
URL:https://hupk.se/event/tisdagstraning-6/
LOCATION:Vågbacken skjutbana\, Vågbacken skjutbana\, Hagfors\, 68340\, Sweden
CATEGORIES:Precision,Träning
END:VEVENT
END:VCALENDAR