BEGIN:VCALENDAR
VERSION:2.0
PRODID:-//Hagfors-Uddeholms Pistolskytteklubb - ECPv6.15.20//NONSGML v1.0//EN
CALSCALE:GREGORIAN
METHOD:PUBLISH
X-WR-CALNAME:Hagfors-Uddeholms Pistolskytteklubb
X-ORIGINAL-URL:https://hupk.se
X-WR-CALDESC:Händelser för Hagfors-Uddeholms Pistolskytteklubb
REFRESH-INTERVAL;VALUE=DURATION:PT1H
X-Robots-Tag:noindex
X-PUBLISHED-TTL:PT1H
BEGIN:VTIMEZONE
TZID:Europe/Stockholm
BEGIN:DAYLIGHT
TZOFFSETFROM:+0100
TZOFFSETTO:+0200
TZNAME:CEST
DTSTART:20250330T010000
END:DAYLIGHT
BEGIN:STANDARD
TZOFFSETFROM:+0200
TZOFFSETTO:+0100
TZNAME:CET
DTSTART:20251026T010000
END:STANDARD
BEGIN:DAYLIGHT
TZOFFSETFROM:+0100
TZOFFSETTO:+0200
TZNAME:CEST
DTSTART:20260329T010000
END:DAYLIGHT
BEGIN:STANDARD
TZOFFSETFROM:+0200
TZOFFSETTO:+0100
TZNAME:CET
DTSTART:20261025T010000
END:STANDARD
BEGIN:DAYLIGHT
TZOFFSETFROM:+0100
TZOFFSETTO:+0200
TZNAME:CEST
DTSTART:20270328T010000
END:DAYLIGHT
BEGIN:STANDARD
TZOFFSETFROM:+0200
TZOFFSETTO:+0100
TZNAME:CET
DTSTART:20271031T010000
END:STANDARD
END:VTIMEZONE
BEGIN:VEVENT
DTSTART;TZID=Europe/Stockholm:20260108T163000
DTEND;TZID=Europe/Stockholm:20260108T180000
DTSTAMP:20260419T183052
CREATED:20260105T092005Z
LAST-MODIFIED:20260105T092005Z
UID:1289-1767889800-1767895200@hupk.se
SUMMARY:Möte Utbildningsgruppen
DESCRIPTION:
URL:https://hupk.se/event/mote-utbildningsgruppen/
LOCATION:Hagfors Flygplats
END:VEVENT
BEGIN:VEVENT
DTSTART;TZID=Europe/Stockholm:20260108T180000
DTEND;TZID=Europe/Stockholm:20260108T200000
DTSTAMP:20260419T183052
CREATED:20260105T091757Z
LAST-MODIFIED:20260105T091757Z
UID:1287-1767895200-1767902400@hupk.se
SUMMARY:Styrelsemöte
DESCRIPTION:
URL:https://hupk.se/event/styrelsemote-5/
LOCATION:Hagfors Flygplats
END:VEVENT
END:VCALENDAR