BEGIN:VCALENDAR
VERSION:2.0
PRODID:-//Hagfors-Uddeholms Pistolskytteklubb - ECPv6.15.20//NONSGML v1.0//EN
CALSCALE:GREGORIAN
METHOD:PUBLISH
X-ORIGINAL-URL:https://hupk.se
X-WR-CALDESC:Händelser för Hagfors-Uddeholms Pistolskytteklubb
REFRESH-INTERVAL;VALUE=DURATION:PT1H
X-Robots-Tag:noindex
X-PUBLISHED-TTL:PT1H
BEGIN:VTIMEZONE
TZID:Europe/Stockholm
BEGIN:DAYLIGHT
TZOFFSETFROM:+0100
TZOFFSETTO:+0200
TZNAME:CEST
DTSTART:20240331T010000
END:DAYLIGHT
BEGIN:STANDARD
TZOFFSETFROM:+0200
TZOFFSETTO:+0100
TZNAME:CET
DTSTART:20241027T010000
END:STANDARD
BEGIN:DAYLIGHT
TZOFFSETFROM:+0100
TZOFFSETTO:+0200
TZNAME:CEST
DTSTART:20250330T010000
END:DAYLIGHT
BEGIN:STANDARD
TZOFFSETFROM:+0200
TZOFFSETTO:+0100
TZNAME:CET
DTSTART:20251026T010000
END:STANDARD
BEGIN:DAYLIGHT
TZOFFSETFROM:+0100
TZOFFSETTO:+0200
TZNAME:CEST
DTSTART:20260329T010000
END:DAYLIGHT
BEGIN:STANDARD
TZOFFSETFROM:+0200
TZOFFSETTO:+0100
TZNAME:CET
DTSTART:20261025T010000
END:STANDARD
END:VTIMEZONE
BEGIN:VEVENT
DTSTART;TZID=Europe/Stockholm:20250301T090000
DTEND;TZID=Europe/Stockholm:20250301T130000
DTSTAMP:20260420T032853
CREATED:20241125T221449Z
LAST-MODIFIED:20241126T081543Z
UID:822-1740819600-1740834000@hupk.se
SUMMARY:Vinterfält 5 + Klubbmästerskap C + A
DESCRIPTION:Poängfält\, 4st stationer x 2\, 1:a varvet med stödhand. 48 skott \nSkjuttid C + B-vapen 12s\, A + R 15s \nTävlingen öppen för medlemmar och inbjudna skyttar. Avgift 20kr/start.
URL:https://hupk.se/event/vinterfalt-5-klubbmasterskap-c-a/
LOCATION:Vågbacken skjutbana\, Vågbacken skjutbana\, Hagfors\, 68340\, Sweden
CATEGORIES:Fält,Träning
END:VEVENT
BEGIN:VEVENT
DTSTART;TZID=Europe/Stockholm:20250315T090000
DTEND;TZID=Europe/Stockholm:20250315T130000
DTSTAMP:20260420T032853
CREATED:20241125T221601Z
LAST-MODIFIED:20241126T081556Z
UID:824-1742029200-1742043600@hupk.se
SUMMARY:Vinterfält 6 + Klubbmästerskap B +R
DESCRIPTION:Poängfält\, 4st stationer x 2\, 1:a varvet med stödhand. 48 skott \nSkjuttid C + B-vapen 12s\, A + R 15s \nTävlingen öppen för medlemmar och inbjudna skyttar. Avgift 20kr/start.
URL:https://hupk.se/event/vinterfalt-6-klubbmasterskap-b-r/
LOCATION:Vågbacken skjutbana\, Vågbacken skjutbana\, Hagfors\, 68340\, Sweden
CATEGORIES:Fält,Träning
END:VEVENT
BEGIN:VEVENT
DTSTART;TZID=Europe/Stockholm:20250329T090000
DTEND;TZID=Europe/Stockholm:20250329T140000
DTSTAMP:20260420T032853
CREATED:20250321T213417Z
LAST-MODIFIED:20250321T213417Z
UID:923-1743238800-1743256800@hupk.se
SUMMARY:Vårfält - klubbtävling/träning
DESCRIPTION:Poängfält\, 4st stationer x 2\, 1:a varvet med stödhand\, 2:a varvet utan stödhand. 48skott Skjuttid C + B-vapen 12s\, A + R 15s Tävlingen öppen för inbjudna skyttar. Avgift 20kr / start
URL:https://hupk.se/event/varfalt-klubbtavling-traning/
LOCATION:Vågbacken skjutbana\, Vågbacken skjutbana\, Hagfors\, 68340\, Sweden
CATEGORIES:Fält,Träning
END:VEVENT
END:VCALENDAR