BEGIN:VCALENDAR
VERSION:2.0
PRODID:-//Hagfors-Uddeholms Pistolskytteklubb - ECPv6.15.20//NONSGML v1.0//EN
CALSCALE:GREGORIAN
METHOD:PUBLISH
X-WR-CALNAME:Hagfors-Uddeholms Pistolskytteklubb
X-ORIGINAL-URL:https://hupk.se
X-WR-CALDESC:Händelser för Hagfors-Uddeholms Pistolskytteklubb
REFRESH-INTERVAL;VALUE=DURATION:PT1H
X-Robots-Tag:noindex
X-PUBLISHED-TTL:PT1H
BEGIN:VTIMEZONE
TZID:Europe/Stockholm
BEGIN:DAYLIGHT
TZOFFSETFROM:+0100
TZOFFSETTO:+0200
TZNAME:CEST
DTSTART:20240331T010000
END:DAYLIGHT
BEGIN:STANDARD
TZOFFSETFROM:+0200
TZOFFSETTO:+0100
TZNAME:CET
DTSTART:20241027T010000
END:STANDARD
BEGIN:DAYLIGHT
TZOFFSETFROM:+0100
TZOFFSETTO:+0200
TZNAME:CEST
DTSTART:20250330T010000
END:DAYLIGHT
BEGIN:STANDARD
TZOFFSETFROM:+0200
TZOFFSETTO:+0100
TZNAME:CET
DTSTART:20251026T010000
END:STANDARD
BEGIN:DAYLIGHT
TZOFFSETFROM:+0100
TZOFFSETTO:+0200
TZNAME:CEST
DTSTART:20260329T010000
END:DAYLIGHT
BEGIN:STANDARD
TZOFFSETFROM:+0200
TZOFFSETTO:+0100
TZNAME:CET
DTSTART:20261025T010000
END:STANDARD
END:VTIMEZONE
BEGIN:VEVENT
DTSTART;VALUE=DATE:20250516
DTEND;VALUE=DATE:20250519
DTSTAMP:20260420T083832
CREATED:20250429T054027Z
LAST-MODIFIED:20250429T054027Z
UID:1000-1747353600-1747612799@hupk.se
SUMMARY:JSK lånar HUPKs parkering
DESCRIPTION:JSK arrangerar tävling i Olympisk trap
URL:https://hupk.se/event/jsk-lanar-hupks-parkering/
END:VEVENT
BEGIN:VEVENT
DTSTART;TZID=Europe/Stockholm:20250520T180000
DTEND;TZID=Europe/Stockholm:20250520T200000
DTSTAMP:20260420T083832
CREATED:20250512T102444Z
LAST-MODIFIED:20250512T102444Z
UID:1025-1747764000-1747771200@hupk.se
SUMMARY:Tisdagträning
DESCRIPTION:
URL:https://hupk.se/event/tisdagtraning-2/
LOCATION:Vågbacken skjutbana\, Vågbacken skjutbana\, Hagfors\, 68340\, Sweden
CATEGORIES:Precision,Träning
END:VEVENT
BEGIN:VEVENT
DTSTART;TZID=Europe/Stockholm:20250521T180000
DTEND;TZID=Europe/Stockholm:20250521T200000
DTSTAMP:20260420T083832
CREATED:20250519T174252Z
LAST-MODIFIED:20250519T174252Z
UID:1059-1747850400-1747857600@hupk.se
SUMMARY:Hemmabana (Rikstävlingen)
DESCRIPTION:Vi kör lite hemmabana \nVi skjuter precision \nKl 18.00 \nVälkommna
URL:https://hupk.se/event/hemmabana-rikstavlingen/
CATEGORIES:Precision
END:VEVENT
BEGIN:VEVENT
DTSTART;VALUE=DATE:20250524
DTEND;VALUE=DATE:20250525
DTSTAMP:20260420T083832
CREATED:20250328T205017Z
LAST-MODIFIED:20250328T205213Z
UID:944-1748044800-1748131199@hupk.se
SUMMARY:Klubbmästerskap PPC
DESCRIPTION:Hålls i samband med PPC Cup-match i Karlstad 24-25 maj 2025\nKlasser: R1500 samt Optic1500
URL:https://hupk.se/event/klubbmasterskap-ppc/
LOCATION:Sörmon
CATEGORIES:KM,PPC
END:VEVENT
BEGIN:VEVENT
DTSTART;VALUE=DATE:20250525
DTEND;VALUE=DATE:20250526
DTSTAMP:20260420T083832
CREATED:20250328T205127Z
LAST-MODIFIED:20250328T205127Z
UID:947-1748131200-1748217599@hupk.se
SUMMARY:Klubbmästerskap PPC
DESCRIPTION:Hålls i samband med PPC Cup-match i Karlstad 24-25 maj 2025\nKlasser: P1500
URL:https://hupk.se/event/klubbmasterskap-ppc-2/
LOCATION:Sörmon
CATEGORIES:KM,PPC
END:VEVENT
BEGIN:VEVENT
DTSTART;TZID=Europe/Stockholm:20250527T180000
DTEND;TZID=Europe/Stockholm:20250527T200000
DTSTAMP:20260420T083832
CREATED:20250512T102524Z
LAST-MODIFIED:20250512T105349Z
UID:1027-1748368800-1748376000@hupk.se
SUMMARY:Tisdagträning
DESCRIPTION:Träning
URL:https://hupk.se/event/tisdagtraning-3/
LOCATION:Vågbacken skjutbana\, Vågbacken skjutbana\, Hagfors\, 68340\, Sweden
CATEGORIES:Precision,Träning
END:VEVENT
BEGIN:VEVENT
DTSTART;TZID=Europe/Stockholm:20250530T080000
DTEND;TZID=Europe/Stockholm:20250530T170000
DTSTAMP:20260420T083832
CREATED:20250328T205319Z
LAST-MODIFIED:20250328T205319Z
UID:950-1748592000-1748624400@hupk.se
SUMMARY:PPC-cupmatch
DESCRIPTION:HUPK arrangerar nationell tävling som utgör deltävling i Svenska PPC-cupen
URL:https://hupk.se/event/ppc-cupmatch/
LOCATION:Vågbacken skjutbana\, Vågbacken skjutbana\, Hagfors\, 68340\, Sweden
CATEGORIES:PPC
END:VEVENT
BEGIN:VEVENT
DTSTART;TZID=Europe/Stockholm:20250603T180000
DTEND;TZID=Europe/Stockholm:20250603T200000
DTSTAMP:20260420T083832
CREATED:20250512T102608Z
LAST-MODIFIED:20250512T105330Z
UID:1029-1748973600-1748980800@hupk.se
SUMMARY:Tisdagträning
DESCRIPTION:Träning
URL:https://hupk.se/event/tisdagtraning-4/
LOCATION:Vågbacken skjutbana\, Vågbacken skjutbana\, Hagfors\, 68340\, Sweden
CATEGORIES:Precision,Träning
END:VEVENT
BEGIN:VEVENT
DTSTART;TZID=Europe/Stockholm:20250608T080000
DTEND;TZID=Europe/Stockholm:20250608T170000
DTSTAMP:20260420T083832
CREATED:20250314T120833Z
LAST-MODIFIED:20250314T120848Z
UID:915-1749369600-1749402000@hupk.se
SUMMARY:IPSC Tävling - Vågbacken Summer 2025 HG+PCC
DESCRIPTION:Main Match på Söndag 8 juni \nPre Match (bara personal) på Lördag 7 juni \nStationsbygge sker under veckan\, kom gärna och hjälp till. Nedplockning av stationerna direkt efter matchen på söndag.
URL:https://hupk.se/event/ipsc-tavling-vagbacken-summer-2025-hgpcc/
LOCATION:Vågbacken skjutbana\, Vågbacken skjutbana\, Hagfors\, 68340\, Sweden
CATEGORIES:IPSC
END:VEVENT
BEGIN:VEVENT
DTSTART;TZID=Europe/Stockholm:20250610T180000
DTEND;TZID=Europe/Stockholm:20250610T200000
DTSTAMP:20260420T083832
CREATED:20250512T102641Z
LAST-MODIFIED:20250512T102641Z
UID:1031-1749578400-1749585600@hupk.se
SUMMARY:Tisdagträning
DESCRIPTION:
URL:https://hupk.se/event/tisdagtraning-5/
LOCATION:Vågbacken skjutbana\, Vågbacken skjutbana\, Hagfors\, 68340\, Sweden
CATEGORIES:Precision,Träning
END:VEVENT
BEGIN:VEVENT
DTSTART;TZID=Europe/Stockholm:20250610T180000
DTEND;TZID=Europe/Stockholm:20250610T200000
DTSTAMP:20260420T083832
CREATED:20250512T102713Z
LAST-MODIFIED:20250512T105425Z
UID:1033-1749578400-1749585600@hupk.se
SUMMARY:Tisdagträning
DESCRIPTION:Träning
URL:https://hupk.se/event/tisdagtraning-6/
LOCATION:Vågbacken skjutbana\, Vågbacken skjutbana\, Hagfors\, 68340\, Sweden
CATEGORIES:Precision,Träning
END:VEVENT
BEGIN:VEVENT
DTSTART;VALUE=DATE:20250617
DTEND;VALUE=DATE:20250618
DTSTAMP:20260420T083832
CREATED:20250617T093255Z
LAST-MODIFIED:20250617T093255Z
UID:1092-1750118400-1750204799@hupk.se
SUMMARY:Banan öppen
DESCRIPTION:
URL:https://hupk.se/event/banan-oppen-3/
END:VEVENT
BEGIN:VEVENT
DTSTART;TZID=Europe/Stockholm:20250617T180000
DTEND;TZID=Europe/Stockholm:20250617T200000
DTSTAMP:20260420T083832
CREATED:20250512T102750Z
LAST-MODIFIED:20250512T105452Z
UID:1035-1750183200-1750190400@hupk.se
SUMMARY:Tisdagträning
DESCRIPTION:Träning
URL:https://hupk.se/event/tisdagtraning-7/
LOCATION:Vågbacken skjutbana\, Vågbacken skjutbana\, Hagfors\, 68340\, Sweden
CATEGORIES:Precision,Träning
END:VEVENT
BEGIN:VEVENT
DTSTART;VALUE=DATE:20250618
DTEND;VALUE=DATE:20250619
DTSTAMP:20260420T083832
CREATED:20250617T092310Z
LAST-MODIFIED:20250617T092310Z
UID:1068-1750204800-1750291199@hupk.se
SUMMARY:Banan öppen
DESCRIPTION:
URL:https://hupk.se/event/banan-oppen/
END:VEVENT
BEGIN:VEVENT
DTSTART;VALUE=DATE:20250619
DTEND;VALUE=DATE:20250620
DTSTAMP:20260420T083832
CREATED:20250617T092501Z
LAST-MODIFIED:20250617T092501Z
UID:1074-1750291200-1750377599@hupk.se
SUMMARY:Banan stängd
DESCRIPTION:
URL:https://hupk.se/event/banan-stangd-3/
END:VEVENT
BEGIN:VEVENT
DTSTART;VALUE=DATE:20250620
DTEND;VALUE=DATE:20250621
DTSTAMP:20260420T083832
CREATED:20250617T092430Z
LAST-MODIFIED:20250617T092430Z
UID:1072-1750377600-1750463999@hupk.se
SUMMARY:Banan stängd
DESCRIPTION:
URL:https://hupk.se/event/banan-stangd-2/
END:VEVENT
BEGIN:VEVENT
DTSTART;VALUE=DATE:20250621
DTEND;VALUE=DATE:20250622
DTSTAMP:20260420T083832
CREATED:20250617T092728Z
LAST-MODIFIED:20250617T092728Z
UID:1076-1750464000-1750550399@hupk.se
SUMMARY:Banan stängd
DESCRIPTION:
URL:https://hupk.se/event/banan-stangd/
END:VEVENT
BEGIN:VEVENT
DTSTART;VALUE=DATE:20250622
DTEND;VALUE=DATE:20250623
DTSTAMP:20260420T083832
CREATED:20250617T092753Z
LAST-MODIFIED:20250617T092923Z
UID:1078-1750550400-1750636799@hupk.se
SUMMARY:Banan stängd
DESCRIPTION:
URL:https://hupk.se/event/banan-stangd-4/
END:VEVENT
BEGIN:VEVENT
DTSTART;TZID=Europe/Stockholm:20250623T070000
DTEND;TZID=Europe/Stockholm:20250623T180000
DTSTAMP:20260420T083832
CREATED:20250617T092845Z
LAST-MODIFIED:20250617T092845Z
UID:1080-1750662000-1750701600@hupk.se
SUMMARY:Banan stängd
DESCRIPTION:
URL:https://hupk.se/event/banan-stangd-5/
END:VEVENT
BEGIN:VEVENT
DTSTART;TZID=Europe/Stockholm:20250624T070000
DTEND;TZID=Europe/Stockholm:20250624T180000
DTSTAMP:20260420T083832
CREATED:20250617T093023Z
LAST-MODIFIED:20250617T093023Z
UID:1082-1750748400-1750788000@hupk.se
SUMMARY:Banan stängd
DESCRIPTION:
URL:https://hupk.se/event/banan-stangd-6/
END:VEVENT
BEGIN:VEVENT
DTSTART;TZID=Europe/Stockholm:20250624T180000
DTEND;TZID=Europe/Stockholm:20250624T200000
DTSTAMP:20260420T083832
CREATED:20250512T102856Z
LAST-MODIFIED:20250512T105404Z
UID:1039-1750788000-1750795200@hupk.se
SUMMARY:Tisdagträning
DESCRIPTION:Träning
URL:https://hupk.se/event/tisdagtraning-9/
LOCATION:Vågbacken skjutbana\, Vågbacken skjutbana\, Hagfors\, 68340\, Sweden
CATEGORIES:Precision,Träning
END:VEVENT
BEGIN:VEVENT
DTSTART;TZID=Europe/Stockholm:20250625T070000
DTEND;TZID=Europe/Stockholm:20250625T180000
DTSTAMP:20260420T083832
CREATED:20250617T093047Z
LAST-MODIFIED:20250617T093047Z
UID:1084-1750834800-1750874400@hupk.se
SUMMARY:Banan stängd
DESCRIPTION:
URL:https://hupk.se/event/banan-stangd-7/
END:VEVENT
BEGIN:VEVENT
DTSTART;TZID=Europe/Stockholm:20250626T070000
DTEND;TZID=Europe/Stockholm:20250626T180000
DTSTAMP:20260420T083832
CREATED:20250617T093111Z
LAST-MODIFIED:20250617T093111Z
UID:1086-1750921200-1750960800@hupk.se
SUMMARY:Banan stängd
DESCRIPTION:
URL:https://hupk.se/event/banan-stangd-8/
END:VEVENT
BEGIN:VEVENT
DTSTART;TZID=Europe/Stockholm:20250627T070000
DTEND;TZID=Europe/Stockholm:20250627T120000
DTSTAMP:20260420T083832
CREATED:20250617T093139Z
LAST-MODIFIED:20250617T101103Z
UID:1088-1751007600-1751025600@hupk.se
SUMMARY:Banan stängd
DESCRIPTION:
URL:https://hupk.se/event/banan-stangd-9/
END:VEVENT
BEGIN:VEVENT
DTSTART;VALUE=DATE:20250628
DTEND;VALUE=DATE:20250629
DTSTAMP:20260420T083832
CREATED:20250617T093158Z
LAST-MODIFIED:20250617T093158Z
UID:1090-1751068800-1751155199@hupk.se
SUMMARY:Banan öppen
DESCRIPTION:
URL:https://hupk.se/event/banan-oppen-2/
END:VEVENT
BEGIN:VEVENT
DTSTART;VALUE=DATE:20250629
DTEND;VALUE=DATE:20250630
DTSTAMP:20260420T083832
CREATED:20250617T100915Z
LAST-MODIFIED:20250617T100915Z
UID:1100-1751155200-1751241599@hupk.se
SUMMARY:Banan öppen
DESCRIPTION:
URL:https://hupk.se/event/banan-oppen-4/
END:VEVENT
BEGIN:VEVENT
DTSTART;TZID=Europe/Stockholm:20250708T100000
DTEND;TZID=Europe/Stockholm:20250708T170000
DTSTAMP:20260420T083832
CREATED:20250707T171715Z
LAST-MODIFIED:20250707T171715Z
UID:1111-1751968800-1751994000@hupk.se
SUMMARY:Bygge på 25m banan
DESCRIPTION:Duellstället fixas. Obs! ca sluttid. \n50 m banan är öppen för skytte!
URL:https://hupk.se/event/bygge-pa-25m-banan/
LOCATION:Vågbacken skjutbana\, Vågbacken skjutbana\, Hagfors\, 68340\, Sweden
CATEGORIES:Arbetsdag
END:VEVENT
BEGIN:VEVENT
DTSTART;TZID=Europe/Stockholm:20250708T170000
DTEND;TZID=Europe/Stockholm:20250708T200000
DTSTAMP:20260420T083832
CREATED:20250707T171438Z
LAST-MODIFIED:20250707T171438Z
UID:1108-1751994000-1752004800@hupk.se
SUMMARY:Märkesskjutning
DESCRIPTION:Anmäl gärna i Skytteportalen att du kommer.
URL:https://hupk.se/event/markesskjutning/
LOCATION:Vågbacken skjutbana\, Vågbacken skjutbana\, Hagfors\, 68340\, Sweden
CATEGORIES:Träning
END:VEVENT
BEGIN:VEVENT
DTSTART;TZID=Europe/Stockholm:20250803T090000
DTEND;TZID=Europe/Stockholm:20250803T120000
DTSTAMP:20260420T083832
CREATED:20250725T193705Z
LAST-MODIFIED:20250725T193720Z
UID:1141-1754211600-1754222400@hupk.se
SUMMARY:Arbetsdag inför Fälttävlingen
DESCRIPTION:Ordna med figurer och annat inför tävlingen den 10:e augusti \n 
URL:https://hupk.se/event/arbetsdag-infor-falttavlingen/
END:VEVENT
BEGIN:VEVENT
DTSTART;TZID=Europe/Stockholm:20250803T120000
DTEND;TZID=Europe/Stockholm:20250803T170000
DTSTAMP:20260420T083832
CREATED:20250725T194137Z
LAST-MODIFIED:20250725T194137Z
UID:1143-1754222400-1754240400@hupk.se
SUMMARY:Sommarfest och invigning av nya skjuthallen
DESCRIPTION:Vi firar den nya skjuthallen. \nEfter arbetsdagen så grillar vi och skjuter fält (typ vinterfält) \nAlla är välkomna \nKostnad: 100 kr (Mat ingår)
URL:https://hupk.se/event/sommarfest-och-invigning-av-nya-skjuthallen/
END:VEVENT
END:VCALENDAR