BEGIN:VCALENDAR
VERSION:2.0
PRODID:-//Hagfors-Uddeholms Pistolskytteklubb - ECPv6.15.20//NONSGML v1.0//EN
CALSCALE:GREGORIAN
METHOD:PUBLISH
X-WR-CALNAME:Hagfors-Uddeholms Pistolskytteklubb
X-ORIGINAL-URL:https://hupk.se
X-WR-CALDESC:Händelser för Hagfors-Uddeholms Pistolskytteklubb
REFRESH-INTERVAL;VALUE=DURATION:PT1H
X-Robots-Tag:noindex
X-PUBLISHED-TTL:PT1H
BEGIN:VTIMEZONE
TZID:Europe/Stockholm
BEGIN:DAYLIGHT
TZOFFSETFROM:+0100
TZOFFSETTO:+0200
TZNAME:CEST
DTSTART:20250330T010000
END:DAYLIGHT
BEGIN:STANDARD
TZOFFSETFROM:+0200
TZOFFSETTO:+0100
TZNAME:CET
DTSTART:20251026T010000
END:STANDARD
BEGIN:DAYLIGHT
TZOFFSETFROM:+0100
TZOFFSETTO:+0200
TZNAME:CEST
DTSTART:20260329T010000
END:DAYLIGHT
BEGIN:STANDARD
TZOFFSETFROM:+0200
TZOFFSETTO:+0100
TZNAME:CET
DTSTART:20261025T010000
END:STANDARD
BEGIN:DAYLIGHT
TZOFFSETFROM:+0100
TZOFFSETTO:+0200
TZNAME:CEST
DTSTART:20270328T010000
END:DAYLIGHT
BEGIN:STANDARD
TZOFFSETFROM:+0200
TZOFFSETTO:+0100
TZNAME:CET
DTSTART:20271031T010000
END:STANDARD
END:VTIMEZONE
BEGIN:VEVENT
DTSTART;VALUE=DATE:20260829
DTEND;VALUE=DATE:20260921
DTSTAMP:20260419T231328
CREATED:20260105T104241Z
LAST-MODIFIED:20260105T104333Z
UID:1423-1787961600-1789948799@hupk.se
SUMMARY:Rikstävlingen hemortens banor Milsnabb och PPC
DESCRIPTION:Mer information kommer
URL:https://hupk.se/event/rikstavlingen-hemortens-banor-milsnabb-och-ppc/
LOCATION:Vågbacken skjutbana\, Vågbacken skjutbana\, Hagfors\, 68340\, Sweden
END:VEVENT
BEGIN:VEVENT
DTSTART;VALUE=DATE:20260919
DTEND;VALUE=DATE:20260920
DTSTAMP:20260419T231328
CREATED:20260105T103319Z
LAST-MODIFIED:20260105T103331Z
UID:1407-1789776000-1789862399@hupk.se
SUMMARY:Tävling Militär snabbmatch Hagfors
DESCRIPTION:HUPK arrangerar
URL:https://hupk.se/event/tavling-militar-snabbmatch-hagfors/
LOCATION:Vågbacken skjutbana\, Vågbacken skjutbana\, Hagfors\, 68340\, Sweden
CATEGORIES:Milsnabb
END:VEVENT
BEGIN:VEVENT
DTSTART;VALUE=DATE:20261003
DTEND;VALUE=DATE:20261005
DTSTAMP:20260419T231328
CREATED:20260105T103426Z
LAST-MODIFIED:20260105T103426Z
UID:1410-1790985600-1791158399@hupk.se
SUMMARY:PPC-cup
DESCRIPTION:HUPK arrangerar
URL:https://hupk.se/event/ppc-cup-5/
LOCATION:Vågbacken skjutbana\, Vågbacken skjutbana\, Hagfors\, 68340\, Sweden
CATEGORIES:PPC
END:VEVENT
BEGIN:VEVENT
DTSTART;VALUE=DATE:20261114
DTEND;VALUE=DATE:20261115
DTSTAMP:20260419T231328
CREATED:20260105T103514Z
LAST-MODIFIED:20260105T103514Z
UID:1412-1794614400-1794700799@hupk.se
SUMMARY:Tävling Fält Jössedubbeln
DESCRIPTION:För vidare information se: krets.se
URL:https://hupk.se/event/tavling-falt-jossedubbeln/
LOCATION:Arvika
CATEGORIES:Fält
END:VEVENT
BEGIN:VEVENT
DTSTART;VALUE=DATE:20261121
DTEND;VALUE=DATE:20261122
DTSTAMP:20260419T231328
CREATED:20260105T103628Z
LAST-MODIFIED:20260105T103628Z
UID:1414-1795219200-1795305599@hupk.se
SUMMARY:Tävling Fält Sannaosta
DESCRIPTION:För vidare information se: krets.se
URL:https://hupk.se/event/tavling-falt-sannaosta/
LOCATION:Karlstad
END:VEVENT
END:VCALENDAR