BEGIN:VCALENDAR
VERSION:2.0
PRODID:-//Hagfors-Uddeholms Pistolskytteklubb - ECPv6.15.20//NONSGML v1.0//EN
CALSCALE:GREGORIAN
METHOD:PUBLISH
X-WR-CALNAME:Hagfors-Uddeholms Pistolskytteklubb
X-ORIGINAL-URL:https://hupk.se
X-WR-CALDESC:Händelser för Hagfors-Uddeholms Pistolskytteklubb
REFRESH-INTERVAL;VALUE=DURATION:PT1H
X-Robots-Tag:noindex
X-PUBLISHED-TTL:PT1H
BEGIN:VTIMEZONE
TZID:Europe/Stockholm
BEGIN:DAYLIGHT
TZOFFSETFROM:+0100
TZOFFSETTO:+0200
TZNAME:CEST
DTSTART:20230326T010000
END:DAYLIGHT
BEGIN:STANDARD
TZOFFSETFROM:+0200
TZOFFSETTO:+0100
TZNAME:CET
DTSTART:20231029T010000
END:STANDARD
BEGIN:DAYLIGHT
TZOFFSETFROM:+0100
TZOFFSETTO:+0200
TZNAME:CEST
DTSTART:20240331T010000
END:DAYLIGHT
BEGIN:STANDARD
TZOFFSETFROM:+0200
TZOFFSETTO:+0100
TZNAME:CET
DTSTART:20241027T010000
END:STANDARD
BEGIN:DAYLIGHT
TZOFFSETFROM:+0100
TZOFFSETTO:+0200
TZNAME:CEST
DTSTART:20250330T010000
END:DAYLIGHT
BEGIN:STANDARD
TZOFFSETFROM:+0200
TZOFFSETTO:+0100
TZNAME:CET
DTSTART:20251026T010000
END:STANDARD
BEGIN:DAYLIGHT
TZOFFSETFROM:+0100
TZOFFSETTO:+0200
TZNAME:CEST
DTSTART:20260329T010000
END:DAYLIGHT
BEGIN:STANDARD
TZOFFSETFROM:+0200
TZOFFSETTO:+0100
TZNAME:CET
DTSTART:20261025T010000
END:STANDARD
END:VTIMEZONE
BEGIN:VEVENT
DTSTART;TZID=Europe/Stockholm:20250128T180000
DTEND;TZID=Europe/Stockholm:20250128T193000
DTSTAMP:20260420T032421
CREATED:20250126T154819Z
LAST-MODIFIED:20250126T155047Z
UID:879-1738087200-1738092600@hupk.se
SUMMARY:Luftpistolträning
DESCRIPTION:Luftpistolträning i Älvstranden. Ingång vid simhallen\, gå förbi bowlinghallen\, säkerhetsdörren till vänster och därefter genom den smala passagen. Utrustning finns att låna\, medtag hörselskydd. Max åtta (8) deltagare. Föranmälan genom intresseanmälan i Skytteportalen. Kontakt Lars Höglin. Kontaktuppgifter till Lars finns under ”Kontakt”
URL:https://hupk.se/event/luftpistoltraning-4/
LOCATION:Älvstranden
CATEGORIES:Luftpistol,Träning
END:VEVENT
BEGIN:VEVENT
DTSTART;TZID=Europe/Stockholm:20250118T090000
DTEND;TZID=Europe/Stockholm:20250118T130000
DTSTAMP:20260420T032421
CREATED:20241125T221113Z
LAST-MODIFIED:20241126T081507Z
UID:816-1737190800-1737205200@hupk.se
SUMMARY:Vinterfält 2
DESCRIPTION:Poängfält\, 4st stationer x 2\, 1:a varvet med stödhand. 48 skott \nSkjuttid C + B-vapen 12s\, A + R 15s \nTävlingen öppen för medlemmar och inbjudna skyttar. Avgift 20kr/start.
URL:https://hupk.se/event/vinterfalt-2-2/
LOCATION:Vågbacken skjutbana\, Vågbacken skjutbana\, Hagfors\, 68340\, Sweden
CATEGORIES:Fält,Träning
END:VEVENT
BEGIN:VEVENT
DTSTART;TZID=Europe/Stockholm:20250104T090000
DTEND;TZID=Europe/Stockholm:20250104T130000
DTSTAMP:20260420T032421
CREATED:20241125T221015Z
LAST-MODIFIED:20241126T081443Z
UID:814-1735981200-1735995600@hupk.se
SUMMARY:Vinterfält 1
DESCRIPTION:Poängfält\, 4st stationer x 2\, 1:a varvet med stödhand. 48 skott \nSkjuttid C + B-vapen 12s\, A + R 15s \nTävlingen öppen för medlemmar och inbjudna skyttar. Avgift 20kr/start.
URL:https://hupk.se/event/vinterfalt-1-2/
LOCATION:Vågbacken skjutbana\, Vågbacken skjutbana\, Hagfors\, 68340\, Sweden
CATEGORIES:Fält,Träning
END:VEVENT
BEGIN:VEVENT
DTSTART;TZID=Europe/Stockholm:20241218T100000
DTEND;TZID=Europe/Stockholm:20241218T110000
DTSTAMP:20260420T032421
CREATED:20241214T091714Z
LAST-MODIFIED:20241214T091714Z
UID:840-1734516000-1734519600@hupk.se
SUMMARY:Miljöskyddstillsyn
DESCRIPTION:Kommunen kommer att utföra miljöskyddstillsyn på banan vid Vågbacken.\nUndvika att planera skjutning under ca 1 timme från denna tid.
URL:https://hupk.se/event/miljoskyddstillsyn/
LOCATION:Vågbacken skjutbana\, Vågbacken skjutbana\, Hagfors\, 68340\, Sweden
END:VEVENT
BEGIN:VEVENT
DTSTART;TZID=Europe/Stockholm:20241217T180000
DTEND;TZID=Europe/Stockholm:20241217T200000
DTSTAMP:20260420T032421
CREATED:20241205T204315Z
LAST-MODIFIED:20241205T204315Z
UID:837-1734458400-1734465600@hupk.se
SUMMARY:Luftpistolträning
DESCRIPTION:
URL:https://hupk.se/event/luftpistoltraning-3/
LOCATION:Älvstranden
CATEGORIES:Luftpistol,Träning
END:VEVENT
BEGIN:VEVENT
DTSTART;TZID=Europe/Stockholm:20241210T180000
DTEND;TZID=Europe/Stockholm:20241210T200000
DTSTAMP:20260420T032421
CREATED:20241205T204229Z
LAST-MODIFIED:20241205T204229Z
UID:835-1733853600-1733860800@hupk.se
SUMMARY:Luftpistolträning
DESCRIPTION:
URL:https://hupk.se/event/luftpistoltraning-2/
LOCATION:Älvstranden
CATEGORIES:Luftpistol,Träning
END:VEVENT
BEGIN:VEVENT
DTSTART;TZID=Europe/Stockholm:20241203T180000
DTEND;TZID=Europe/Stockholm:20241203T200000
DTSTAMP:20260420T032421
CREATED:20241201T094532Z
LAST-MODIFIED:20241201T094532Z
UID:829-1733248800-1733256000@hupk.se
SUMMARY:Luftpistolträning
DESCRIPTION:För ytterligare information se inlägg
URL:https://hupk.se/event/luftpistoltraning/
LOCATION:Älvstranden
CATEGORIES:Luftpistol,Träning
END:VEVENT
BEGIN:VEVENT
DTSTART;TZID=Europe/Stockholm:20241105T180000
DTEND;TZID=Europe/Stockholm:20241105T210000
DTSTAMP:20260420T032421
CREATED:20240928T104018Z
LAST-MODIFIED:20241020T193132Z
UID:762-1730829600-1730840400@hupk.se
SUMMARY:Kurs om Skytteportalen
DESCRIPTION:Vi kommer att visa hur man använder Skytteportalen. \nSkytteportalen är en medlemsplattform som kompletterar hemsidan. \nNedan finns en länk som visar exempel på innehåll: \nhttps://skytte.itka.se/ \nAlla medlemmar är välkomna! \nPlats: Inter-Data kontorsbyggnaden på Råda flygplats\, översta våningen.
URL:https://hupk.se/event/kurs-om-skytteportalen/
LOCATION:Inter-Data kontorsbyggnaden\, Flygplatsvägen 11\, Råda (Hagfors)\, Sweden
END:VEVENT
BEGIN:VEVENT
DTSTART;TZID=Europe/Stockholm:20241009T093000
DTEND;TZID=Europe/Stockholm:20241009T123000
DTSTAMP:20260420T032421
CREATED:20240928T102327Z
LAST-MODIFIED:20240928T102327Z
UID:760-1728466200-1728477000@hupk.se
SUMMARY:Banan är avstängd
DESCRIPTION:Banan är avstängd pga besiktning.
URL:https://hupk.se/event/banan-ar-avstangd/
LOCATION:Vågbacken skjutbana\, Vågbacken skjutbana\, Hagfors\, 68340\, Sweden
END:VEVENT
BEGIN:VEVENT
DTSTART;TZID=Europe/Stockholm:20241005T080000
DTEND;TZID=Europe/Stockholm:20241006T170000
DTSTAMP:20260420T032421
CREATED:20231220T184033Z
LAST-MODIFIED:20240816T153112Z
UID:380-1728115200-1728234000@hupk.se
SUMMARY:PPC Cup
DESCRIPTION:PPC Cup
URL:https://hupk.se/event/ppc-cup/
LOCATION:Vågbacken skjutbana\, Vågbacken skjutbana\, Hagfors\, 68340\, Sweden
CATEGORIES:PPC
END:VEVENT
BEGIN:VEVENT
DTSTART;TZID=Europe/Stockholm:20240924T170000
DTEND;TZID=Europe/Stockholm:20240924T200000
DTSTAMP:20260420T032421
CREATED:20240903T151740Z
LAST-MODIFIED:20240910T072221Z
UID:745-1727197200-1727208000@hupk.se
SUMMARY:Träning Precision
DESCRIPTION:
URL:https://hupk.se/event/traning-precision-4/
LOCATION:Vågbacken skjutbana\, Vågbacken skjutbana\, Hagfors\, 68340\, Sweden
CATEGORIES:Precision,Träning
END:VEVENT
BEGIN:VEVENT
DTSTART;TZID=Europe/Stockholm:20240917T170000
DTEND;TZID=Europe/Stockholm:20240917T200000
DTSTAMP:20260420T032421
CREATED:20240903T151649Z
LAST-MODIFIED:20240910T072240Z
UID:743-1726592400-1726603200@hupk.se
SUMMARY:Träning Precision
DESCRIPTION:
URL:https://hupk.se/event/traning-precision-3/
LOCATION:Vågbacken skjutbana\, Vågbacken skjutbana\, Hagfors\, 68340\, Sweden
CATEGORIES:Precision,Träning
END:VEVENT
BEGIN:VEVENT
DTSTART;TZID=Europe/Stockholm:20240910T170000
DTEND;TZID=Europe/Stockholm:20240910T200000
DTSTAMP:20260420T032421
CREATED:20240903T151605Z
LAST-MODIFIED:20240910T072258Z
UID:741-1725987600-1725998400@hupk.se
SUMMARY:Träning Precision
DESCRIPTION:
URL:https://hupk.se/event/traning-precision-2/
LOCATION:Vågbacken skjutbana\, Vågbacken skjutbana\, Hagfors\, 68340\, Sweden
CATEGORIES:Precision,Träning
END:VEVENT
BEGIN:VEVENT
DTSTART;TZID=Europe/Stockholm:20240908T080000
DTEND;TZID=Europe/Stockholm:20240908T170000
DTSTAMP:20260420T032421
CREATED:20231220T183924Z
LAST-MODIFIED:20231220T183924Z
UID:378-1725782400-1725814800@hupk.se
SUMMARY:Hagfors Fält
DESCRIPTION:Hagfors Fält
URL:https://hupk.se/event/hagfors-falt/
LOCATION:Vågbacken skjutbana\, Vågbacken skjutbana\, Hagfors\, 68340\, Sweden
CATEGORIES:Fält
END:VEVENT
BEGIN:VEVENT
DTSTART;TZID=Europe/Stockholm:20240907T090000
DTEND;TZID=Europe/Stockholm:20240907T140000
DTSTAMP:20260420T032421
CREATED:20240903T151953Z
LAST-MODIFIED:20240903T151953Z
UID:747-1725699600-1725717600@hupk.se
SUMMARY:Arbetsdag
DESCRIPTION:Idag bygger vi banan inför morgondagens fält-tävling. Ta med handskar\, skruvdragare\, staka armar och varför inte en fyrhjuling?
URL:https://hupk.se/event/arbetsdag-4/
LOCATION:Vågbacken skjutbana\, Vågbacken skjutbana\, Hagfors\, 68340\, Sweden
CATEGORIES:Arbetsdag,Fält
END:VEVENT
BEGIN:VEVENT
DTSTART;TZID=Europe/Stockholm:20240903T180000
DTEND;TZID=Europe/Stockholm:20240903T200000
DTSTAMP:20260420T032421
CREATED:20240903T151519Z
LAST-MODIFIED:20240903T151519Z
UID:739-1725386400-1725393600@hupk.se
SUMMARY:Träning Precision
DESCRIPTION:
URL:https://hupk.se/event/traning-precision/
LOCATION:Vågbacken skjutbana\, Vågbacken skjutbana\, Hagfors\, 68340\, Sweden
CATEGORIES:Precision,Träning
END:VEVENT
BEGIN:VEVENT
DTSTART;VALUE=DATE:20240831
DTEND;VALUE=DATE:20240901
DTSTAMP:20260420T032421
CREATED:20240614T210725Z
LAST-MODIFIED:20240614T210725Z
UID:646-1725062400-1725148799@hupk.se
SUMMARY:Kretsmästerskap i Precision i Sunne
DESCRIPTION:
URL:https://hupk.se/event/kretsmasterskap-i-precision-i-sunne/
CATEGORIES:Precision
END:VEVENT
BEGIN:VEVENT
DTSTART;TZID=Europe/Stockholm:20240824T090000
DTEND;TZID=Europe/Stockholm:20240824T150000
DTSTAMP:20260420T032421
CREATED:20240820T194027Z
LAST-MODIFIED:20240820T194027Z
UID:731-1724490000-1724511600@hupk.se
SUMMARY:Arbetsdag
DESCRIPTION:Arbetsdag
URL:https://hupk.se/event/arbetsdag-3/
LOCATION:Vågbacken skjutbana\, Vågbacken skjutbana\, Hagfors\, 68340\, Sweden
CATEGORIES:Arbetsdag
END:VEVENT
BEGIN:VEVENT
DTSTART;TZID=Europe/Stockholm:20240820T180000
DTEND;TZID=Europe/Stockholm:20240820T210000
DTSTAMP:20260420T032421
CREATED:20240614T210515Z
LAST-MODIFIED:20240614T210550Z
UID:644-1724176800-1724187600@hupk.se
SUMMARY:Klubbmästerskap i Precision
DESCRIPTION:
URL:https://hupk.se/event/klubbmasterskap-i-precision/
LOCATION:Vågbacken skjutbana\, Vågbacken skjutbana\, Hagfors\, 68340\, Sweden
CATEGORIES:KM
END:VEVENT
BEGIN:VEVENT
DTSTART;VALUE=DATE:20240811
DTEND;VALUE=DATE:20240812
DTSTAMP:20260420T032421
CREATED:20231220T183429Z
LAST-MODIFIED:20240809T122440Z
UID:371-1723334400-1723420799@hupk.se
SUMMARY:Militär Snabbmatch (+ KM)
DESCRIPTION:Militär Snabbmatch \nInbjudan \nStartlista
URL:https://hupk.se/event/militar-snabbmatch-km/
LOCATION:Vågbacken skjutbana\, Vågbacken skjutbana\, Hagfors\, 68340\, Sweden
CATEGORIES:KM,Milsnabb
END:VEVENT
BEGIN:VEVENT
DTSTART;TZID=Europe/Stockholm:20240806T180000
DTEND;TZID=Europe/Stockholm:20240806T200000
DTSTAMP:20260420T032421
CREATED:20240806T075817Z
LAST-MODIFIED:20240806T075817Z
UID:705-1722967200-1722974400@hupk.se
SUMMARY:Träning
DESCRIPTION:Träning i precisionsskytte. \nNybörjare är välkomna. Ta gärna med hörselskydd och skyddsglasögon.
URL:https://hupk.se/event/traning-17/
LOCATION:Vågbacken skjutbana\, Vågbacken skjutbana\, Hagfors\, 68340\, Sweden
CATEGORIES:Precision,Träning
END:VEVENT
BEGIN:VEVENT
DTSTART;VALUE=DATE:20240803
DTEND;VALUE=DATE:20240804
DTSTAMP:20260420T032421
CREATED:20240614T210900Z
LAST-MODIFIED:20240614T210900Z
UID:648-1722643200-1722729599@hupk.se
SUMMARY:Kretsmästerskap i Militär snabbmatch i Säffle
DESCRIPTION:Mer info kommer
URL:https://hupk.se/event/kretsmasterskap-i-militar-snabbmatch-i-saffle/
CATEGORIES:Milsnabb
END:VEVENT
BEGIN:VEVENT
DTSTART;VALUE=DATE:20240725
DTEND;VALUE=DATE:20240729
DTSTAMP:20260420T032421
CREATED:20231220T183530Z
LAST-MODIFIED:20231220T183530Z
UID:373-1721865600-1722211199@hupk.se
SUMMARY:SM PPC
DESCRIPTION:SM PPC
URL:https://hupk.se/event/sm-ppc/
LOCATION:Vågbacken skjutbana\, Vågbacken skjutbana\, Hagfors\, 68340\, Sweden
CATEGORIES:PPC,SM
END:VEVENT
BEGIN:VEVENT
DTSTART;TZID=Europe/Stockholm:20240722T100000
DTEND;TZID=Europe/Stockholm:20240722T170000
DTSTAMP:20260420T032421
CREATED:20240718T195201Z
LAST-MODIFIED:20240718T195201Z
UID:691-1721642400-1721667600@hupk.se
SUMMARY:Arbetsdag inför SM
DESCRIPTION:Hämta stolar/bord/tält – bygga upp \nGöra iordning köket \nHämta kaffebryggare \nmm.
URL:https://hupk.se/event/arbetsdag-infor-sm/
LOCATION:Vågbacken skjutbana\, Vågbacken skjutbana\, Hagfors\, 68340\, Sweden
CATEGORIES:Arbetsdag
END:VEVENT
BEGIN:VEVENT
DTSTART;TZID=Europe/Stockholm:20240720T090000
DTEND;TZID=Europe/Stockholm:20240720T120000
DTSTAMP:20260420T032421
CREATED:20240718T194925Z
LAST-MODIFIED:20240718T194925Z
UID:689-1721466000-1721476800@hupk.se
SUMMARY:Funktionärsträff och fix inför SM
DESCRIPTION:
URL:https://hupk.se/event/funktionarstraff-och-fix-infor-sm/
LOCATION:Vågbacken skjutbana\, Vågbacken skjutbana\, Hagfors\, 68340\, Sweden
CATEGORIES:Arbetsdag
END:VEVENT
BEGIN:VEVENT
DTSTART;VALUE=DATE:20240705
DTEND;VALUE=DATE:20240708
DTSTAMP:20260420T032421
CREATED:20240614T205939Z
LAST-MODIFIED:20240614T205939Z
UID:640-1720137600-1720396799@hupk.se
SUMMARY:Banan är avstängd/skjutförbud
DESCRIPTION:Banan och parkeringen är utlånad till Jaktskytteklubben som arrangerar SM i Olympisk trap.
URL:https://hupk.se/event/banan-ar-avstangd-skjutforbud/
LOCATION:Vågbacken skjutbana\, Vågbacken skjutbana\, Hagfors\, 68340\, Sweden
END:VEVENT
BEGIN:VEVENT
DTSTART;TZID=Europe/Stockholm:20240630T100000
DTEND;TZID=Europe/Stockholm:20240630T140000
DTSTAMP:20260420T032421
CREATED:20240614T205343Z
LAST-MODIFIED:20240614T205343Z
UID:638-1719741600-1719756000@hupk.se
SUMMARY:Arbetsdag på banan
DESCRIPTION:Mer info kommer
URL:https://hupk.se/event/arbetsdag-pa-banan-2/
LOCATION:Vågbacken skjutbana\, Vågbacken skjutbana\, Hagfors\, 68340\, Sweden
CATEGORIES:Arbetsdag
END:VEVENT
BEGIN:VEVENT
DTSTART;TZID=Europe/Stockholm:20240629T100000
DTEND;TZID=Europe/Stockholm:20240629T140000
DTSTAMP:20260420T032421
CREATED:20240614T205254Z
LAST-MODIFIED:20240614T205254Z
UID:636-1719655200-1719669600@hupk.se
SUMMARY:Arbetsdag på banan
DESCRIPTION:Mer info kommer
URL:https://hupk.se/event/arbetsdag-pa-banan/
LOCATION:Vågbacken skjutbana\, Vågbacken skjutbana\, Hagfors\, 68340\, Sweden
CATEGORIES:Arbetsdag
END:VEVENT
BEGIN:VEVENT
DTSTART;TZID=Europe/Stockholm:20240625T180000
DTEND;TZID=Europe/Stockholm:20240625T200000
DTSTAMP:20260420T032421
CREATED:20240603T063958Z
LAST-MODIFIED:20240603T063958Z
UID:633-1719338400-1719345600@hupk.se
SUMMARY:Träning
DESCRIPTION:Träning i precisionsskytte. \nNybörjare är välkomna. Ta gärna med hörselskydd och skyddsglasögon. \nOBS! Vi gör träningsuppehåll i Juli månad! \nGlöm inte att vi arrangerar SM i juli och är i stort behov av funktionärer!
URL:https://hupk.se/event/traning-16/
LOCATION:Vågbacken skjutbana\, Vågbacken skjutbana\, Hagfors\, 68340\, Sweden
CATEGORIES:Träning
END:VEVENT
BEGIN:VEVENT
DTSTART;TZID=Europe/Stockholm:20240618T180000
DTEND;TZID=Europe/Stockholm:20240618T200000
DTSTAMP:20260420T032422
CREATED:20240603T063800Z
LAST-MODIFIED:20240614T210354Z
UID:631-1718733600-1718740800@hupk.se
SUMMARY:Träning
DESCRIPTION:Träning i precisionsskytte. \nNybörjare är välkomna. Ta gärna med hörselskydd och skyddsglasögon.
URL:https://hupk.se/event/traning-15/
LOCATION:Vågbacken skjutbana\, Vågbacken skjutbana\, Hagfors\, 68340\, Sweden
CATEGORIES:Träning
END:VEVENT
END:VCALENDAR