BEGIN:VCALENDAR
VERSION:2.0
PRODID:-//Hagfors-Uddeholms Pistolskytteklubb - ECPv6.15.20//NONSGML v1.0//EN
CALSCALE:GREGORIAN
METHOD:PUBLISH
X-WR-CALNAME:Hagfors-Uddeholms Pistolskytteklubb
X-ORIGINAL-URL:https://hupk.se
X-WR-CALDESC:Händelser för Hagfors-Uddeholms Pistolskytteklubb
REFRESH-INTERVAL;VALUE=DURATION:PT1H
X-Robots-Tag:noindex
X-PUBLISHED-TTL:PT1H
BEGIN:VTIMEZONE
TZID:Europe/Stockholm
BEGIN:DAYLIGHT
TZOFFSETFROM:+0100
TZOFFSETTO:+0200
TZNAME:CEST
DTSTART:20220327T010000
END:DAYLIGHT
BEGIN:STANDARD
TZOFFSETFROM:+0200
TZOFFSETTO:+0100
TZNAME:CET
DTSTART:20221030T010000
END:STANDARD
BEGIN:DAYLIGHT
TZOFFSETFROM:+0100
TZOFFSETTO:+0200
TZNAME:CEST
DTSTART:20230326T010000
END:DAYLIGHT
BEGIN:STANDARD
TZOFFSETFROM:+0200
TZOFFSETTO:+0100
TZNAME:CET
DTSTART:20231029T010000
END:STANDARD
BEGIN:DAYLIGHT
TZOFFSETFROM:+0100
TZOFFSETTO:+0200
TZNAME:CEST
DTSTART:20240331T010000
END:DAYLIGHT
BEGIN:STANDARD
TZOFFSETFROM:+0200
TZOFFSETTO:+0100
TZNAME:CET
DTSTART:20241027T010000
END:STANDARD
END:VTIMEZONE
BEGIN:VEVENT
DTSTART;VALUE=DATE:20231001
DTEND;VALUE=DATE:20231002
DTSTAMP:20260420T103352
CREATED:20230731T095327Z
LAST-MODIFIED:20230731T095327Z
UID:209-1696118400-1696204799@hupk.se
SUMMARY:Cupmatch PPC
DESCRIPTION:Cupmatch i PPC skytte \nAnmälan görs på PPC 1500 Sverige
URL:https://hupk.se/event/cupmatch-ppc-2/
END:VEVENT
BEGIN:VEVENT
DTSTART;VALUE=DATE:20230930
DTEND;VALUE=DATE:20231001
DTSTAMP:20260420T103352
CREATED:20230731T095302Z
LAST-MODIFIED:20230731T095302Z
UID:207-1696032000-1696118399@hupk.se
SUMMARY:Cupmatch PPC
DESCRIPTION:Cupmatch i PPC skytte \nAnmälan görs på PPC 1500 Sverige
URL:https://hupk.se/event/cupmatch-ppc/
END:VEVENT
BEGIN:VEVENT
DTSTART;VALUE=DATE:20230917
DTEND;VALUE=DATE:20230918
DTSTAMP:20260420T103352
CREATED:20230731T094953Z
LAST-MODIFIED:20230915T102856Z
UID:204-1694908800-1694995199@hupk.se
SUMMARY:Hagforsfält
DESCRIPTION:HUPK:s tävling i fältskytte. \nInbjudan \nStartlista
URL:https://hupk.se/event/hagforsfalt/
END:VEVENT
BEGIN:VEVENT
DTSTART;TZID=Europe/Stockholm:20230916T100000
DTEND;TZID=Europe/Stockholm:20230916T170000
DTSTAMP:20260420T103352
CREATED:20230913T081019Z
LAST-MODIFIED:20230913T081019Z
UID:289-1694858400-1694883600@hupk.se
SUMMARY:Arbetsdag Hagforsfält
DESCRIPTION:Arbetsdag inför vår fälttävling. \nStationerna ska byggas och förberedas
URL:https://hupk.se/event/arbetsdag-hagforsfalt/
END:VEVENT
BEGIN:VEVENT
DTSTART;TZID=Europe/Stockholm:20230914T140000
DTEND;TZID=Europe/Stockholm:20230914T170000
DTSTAMP:20260420T103352
CREATED:20230831T171307Z
LAST-MODIFIED:20230831T171307Z
UID:272-1694700000-1694710800@hupk.se
SUMMARY:Rikstävling Militär Snabbmatch
DESCRIPTION:Vi skjuter Rikstävlingen i Milsnabb så 25-meters banan är upptagen då. \nStart kl 14.00
URL:https://hupk.se/event/rikstavling-militar-snabbmatch/
END:VEVENT
BEGIN:VEVENT
DTSTART;TZID=Europe/Stockholm:20230909T090000
DTEND;TZID=Europe/Stockholm:20230909T170000
DTSTAMP:20260420T103352
CREATED:20230905T091914Z
LAST-MODIFIED:20230905T092013Z
UID:285-1694250000-1694278800@hupk.se
SUMMARY:Arbetsdag
DESCRIPTION:1. Toaletten ska ställas på plats\n2. Figurer inför fälttävlingen den 17:e ska skruvas och göras i ordning\n3. Vi behöver ta reda på det som är kvar efter IPSC tävlingarna som genomfördes i helgen\n4. Det ska förberedas för dom nya PPC ställen.
URL:https://hupk.se/event/arbetsdag/
CATEGORIES:Arbetsdag
END:VEVENT
BEGIN:VEVENT
DTSTART;TZID=Europe/Stockholm:20230903T090000
DTEND;TZID=Europe/Stockholm:20230903T180000
DTSTAMP:20260420T103352
CREATED:20230722T092531Z
LAST-MODIFIED:20230722T092531Z
UID:174-1693731600-1693764000@hupk.se
SUMMARY:Värmlandscup 2023 - PCC
DESCRIPTION:Söndag 3 september är det dags för IPSC PCC tävlingen\, Värmlandscup 2023! \nSkytte från deltagande Värmlandska klubbar har förtur\, men registrering öppnas för alla skytte 27 augusti. \n  \n 
URL:https://hupk.se/event/varmlandscup-2023-pcc/
LOCATION:Vågbacken skjutbana\, Vågbacken skjutbana\, Hagfors\, 68340\, Sweden
END:VEVENT
BEGIN:VEVENT
DTSTART;TZID=Europe/Stockholm:20230902T090000
DTEND;TZID=Europe/Stockholm:20230902T180000
DTSTAMP:20260420T103352
CREATED:20230722T092426Z
LAST-MODIFIED:20230722T092426Z
UID:171-1693645200-1693677600@hupk.se
SUMMARY:Värmlandscup 2023 - Pistol
DESCRIPTION:Lördag 2 september är det dags för IPSC pistol tävlingen\, Värmlandscup 2023! \nSkytte från deltagande Värmlandska klubbar har förtur\, men registrering öppnas för alla skytte 26 augusti. \nAnmäll på https://shootnscoreit.com/event/43/817/ \n 
URL:https://hupk.se/event/varmlandscup-2023-pistol/
LOCATION:Vågbacken skjutbana\, Vågbacken skjutbana\, Hagfors\, 68340\, Sweden
END:VEVENT
BEGIN:VEVENT
DTSTART;TZID=Europe/Stockholm:20230813T100000
DTEND;TZID=Europe/Stockholm:20230813T150000
DTSTAMP:20260420T103352
CREATED:20230810T162518Z
LAST-MODIFIED:20230810T162518Z
UID:251-1691920800-1691938800@hupk.se
SUMMARY:Arbetsdag Inför Värmlandscupen i IPSC
DESCRIPTION:Arbetsdag inför våra deltävlingar i Värmlandscupen i IPSC. \nVi har lite saker kvar som ska byggas.
URL:https://hupk.se/event/arbetsdag-infor-varmlandscupen-i-ipsc/
CATEGORIES:Arbetsdag
END:VEVENT
BEGIN:VEVENT
DTSTART;TZID=Europe/Stockholm:20230812T100000
DTEND;TZID=Europe/Stockholm:20230812T160000
DTSTAMP:20260420T103352
CREATED:20230809T181304Z
LAST-MODIFIED:20230809T181304Z
UID:249-1691834400-1691856000@hupk.se
SUMMARY:50-yards banan bokad för PPC-skytte
DESCRIPTION:50-yards banan bokad för PPC-skytte. \nSker mellan 10.00-16.00 ca
URL:https://hupk.se/event/50-yards-banan-bokad-for-ppc-skytte/
CATEGORIES:Träning
END:VEVENT
BEGIN:VEVENT
DTSTART;TZID=Europe/Stockholm:20230804T100000
DTEND;TZID=Europe/Stockholm:20230804T160000
DTSTAMP:20260420T103352
CREATED:20230731T094714Z
LAST-MODIFIED:20230731T094714Z
UID:202-1691143200-1691164800@hupk.se
SUMMARY:Arbetsdag Värmlandscupen IPSC
DESCRIPTION:Arbetsdag inför vår deltävling i Värmlandscupen i IPSC \n 
URL:https://hupk.se/event/arbetsdag-varmlandscupen-ipsc/
END:VEVENT
BEGIN:VEVENT
DTSTART;TZID=Europe/Stockholm:20230722T080000
DTEND;TZID=Europe/Stockholm:20230722T170000
DTSTAMP:20260420T103352
CREATED:20230702T095115Z
LAST-MODIFIED:20230702T095137Z
UID:123-1690012800-1690045200@hupk.se
SUMMARY:Nationell tävling i Militär Snabbmatch
DESCRIPTION:Hagfors – Uddeholms PK bjuder in till en tävling i Militär Snabbmatch den 22:a Juli \nVarmt välkommen med din anmälan \nInbjudan Milsnabb
URL:https://hupk.se/event/nationell-tavling-i-militar-snabbmatch/
END:VEVENT
BEGIN:VEVENT
DTSTART;VALUE=DATE:20230701
DTEND;VALUE=DATE:20230703
DTSTAMP:20260420T103352
CREATED:20230628T085330Z
LAST-MODIFIED:20230628T085330Z
UID:119-1688169600-1688342399@hupk.se
SUMMARY:Skjutförbud
DESCRIPTION:Nu på lördag och söndag (1:a och 2:a juli) så är det skjutförbud på våra banor.\nDetta pga att jaktskytteklubben kommer hålla SM-uttagning i hagel och dom kommer låna vår parkering.
URL:https://hupk.se/event/skjutforbud/
LOCATION:Vågbacken skjutbana\, Vågbacken skjutbana\, Hagfors\, 68340\, Sweden
END:VEVENT
BEGIN:VEVENT
DTSTART;VALUE=DATE:20230602
DTEND;VALUE=DATE:20230605
DTSTAMP:20260420T103352
CREATED:20230417T182434Z
LAST-MODIFIED:20230417T184200Z
UID:97-1685664000-1685923199@hupk.se
SUMMARY:SM I MAGNUMPRECISION
DESCRIPTION:3:e  Svenska Mästerskap i MAGNUMPRECISION 2023 den 2 – 4 Juni \n \nFör mer info och anmällan\, se magnumsm.com \n 
URL:https://hupk.se/event/sm-i-magnumprecision/
LOCATION:Vågbacken skjutbana\, Vågbacken skjutbana\, Hagfors\, 68340\, Sweden
CATEGORIES:SM
END:VEVENT
BEGIN:VEVENT
DTSTART;TZID=Europe/Stockholm:20230530T180000
DTEND;TZID=Europe/Stockholm:20230530T200000
DTSTAMP:20260420T103352
CREATED:20230417T185343Z
LAST-MODIFIED:20230417T185343Z
UID:113-1685469600-1685476800@hupk.se
SUMMARY:Träning
DESCRIPTION:Träning
URL:https://hupk.se/event/traning-6/
LOCATION:Vågbacken skjutbana\, Vågbacken skjutbana\, Hagfors\, 68340\, Sweden
CATEGORIES:Träning
END:VEVENT
BEGIN:VEVENT
DTSTART;TZID=Europe/Stockholm:20230523T180000
DTEND;TZID=Europe/Stockholm:20230523T200000
DTSTAMP:20260420T103352
CREATED:20230417T185244Z
LAST-MODIFIED:20230417T185244Z
UID:111-1684864800-1684872000@hupk.se
SUMMARY:Träning
DESCRIPTION:Träning
URL:https://hupk.se/event/traning-5/
LOCATION:Vågbacken skjutbana\, Vågbacken skjutbana\, Hagfors\, 68340\, Sweden
CATEGORIES:Träning
END:VEVENT
BEGIN:VEVENT
DTSTART;TZID=Europe/Stockholm:20230518T090000
DTEND;TZID=Europe/Stockholm:20230518T170000
DTSTAMP:20260420T103352
CREATED:20230510T151709Z
LAST-MODIFIED:20230510T151709Z
UID:116-1684400400-1684429200@hupk.se
SUMMARY:Arbetsdag inför SM i Magnumprecision
DESCRIPTION:Arbetsdag inför SM i Magnumprecision
URL:https://hupk.se/event/arbetsdag-infor-sm-i-magnumprecision/
LOCATION:Vågbacken skjutbana\, Vågbacken skjutbana\, Hagfors\, 68340\, Sweden
END:VEVENT
BEGIN:VEVENT
DTSTART;TZID=Europe/Stockholm:20230516T180000
DTEND;TZID=Europe/Stockholm:20230516T200000
DTSTAMP:20260420T103352
CREATED:20230417T185223Z
LAST-MODIFIED:20230417T185223Z
UID:109-1684260000-1684267200@hupk.se
SUMMARY:Träning
DESCRIPTION:Träning
URL:https://hupk.se/event/traning-4/
LOCATION:Vågbacken skjutbana\, Vågbacken skjutbana\, Hagfors\, 68340\, Sweden
CATEGORIES:Träning
END:VEVENT
BEGIN:VEVENT
DTSTART;TZID=Europe/Stockholm:20230509T180000
DTEND;TZID=Europe/Stockholm:20230509T200000
DTSTAMP:20260420T103352
CREATED:20230417T185205Z
LAST-MODIFIED:20230417T185205Z
UID:107-1683655200-1683662400@hupk.se
SUMMARY:Träning
DESCRIPTION:Träning
URL:https://hupk.se/event/traning-3/
LOCATION:Vågbacken skjutbana\, Vågbacken skjutbana\, Hagfors\, 68340\, Sweden
CATEGORIES:Träning
END:VEVENT
BEGIN:VEVENT
DTSTART;TZID=Europe/Stockholm:20230502T180000
DTEND;TZID=Europe/Stockholm:20230502T200000
DTSTAMP:20260420T103352
CREATED:20230417T185137Z
LAST-MODIFIED:20230417T185137Z
UID:105-1683050400-1683057600@hupk.se
SUMMARY:Träning
DESCRIPTION:Träning
URL:https://hupk.se/event/traning-2/
LOCATION:Vågbacken skjutbana\, Vågbacken skjutbana\, Hagfors\, 68340\, Sweden
CATEGORIES:Träning
END:VEVENT
BEGIN:VEVENT
DTSTART;TZID=Europe/Stockholm:20230425T180000
DTEND;TZID=Europe/Stockholm:20230425T200000
DTSTAMP:20260420T103352
CREATED:20230417T183546Z
LAST-MODIFIED:20230417T183546Z
UID:100-1682445600-1682452800@hupk.se
SUMMARY:Träning
DESCRIPTION:
URL:https://hupk.se/event/traning/
LOCATION:Vågbacken skjutbana\, Vågbacken skjutbana\, Hagfors\, 68340\, Sweden
CATEGORIES:Träning
END:VEVENT
BEGIN:VEVENT
DTSTART;TZID=Europe/Stockholm:20230415T100000
DTEND;TZID=Europe/Stockholm:20230415T160000
DTSTAMP:20260420T103352
CREATED:20230412T165845Z
LAST-MODIFIED:20230412T165845Z
UID:95-1681552800-1681574400@hupk.se
SUMMARY:KM fältskytte B+R
DESCRIPTION:Nu på lördag 15/4 så kommer vi ha ett KM i fältskytte i vapengrupperna B och R.\nVi drar igång kl 10.00\nDet är givetvis inget måste att skjuta just B eller R utan alla är välkomna att deltaga oavsett vilket vapen man skjuter med. \nVapen finns att låna så passa på att prova på fältskytte 🙂 \nKontakta gärna Stefan om ni skulle vara sugna och behöver låna vapen.
URL:https://hupk.se/event/km-faltskytte-br/
LOCATION:Vågbacken skjutbana\, Vågbacken skjutbana\, Hagfors\, 68340\, Sweden
END:VEVENT
BEGIN:VEVENT
DTSTART;TZID=Europe/Stockholm:20230410T090000
DTEND;TZID=Europe/Stockholm:20230410T170000
DTSTAMP:20260420T103352
CREATED:20230314T163102Z
LAST-MODIFIED:20260110T200020Z
UID:89-1681117200-1681146000@hupk.se
SUMMARY:IPSC examinering
DESCRIPTION:IPSC examinering på banan \nBanan är stängd för övrigt skytte 08.00-17.00 \nVänligen respektera.
URL:https://hupk.se/event/ipsc-examinering/
LOCATION:Vågbacken skjutbana\, Vågbacken skjutbana\, Hagfors\, 68340\, Sweden
END:VEVENT
BEGIN:VEVENT
DTSTART;TZID=Europe/Stockholm:20230326T090000
DTEND;TZID=Europe/Stockholm:20230326T170000
DTSTAMP:20260420T103352
CREATED:20230314T162709Z
LAST-MODIFIED:20230314T162709Z
UID:87-1679821200-1679850000@hupk.se
SUMMARY:IPSC Kurs\, del 2
DESCRIPTION:IPSC kurs på banan
URL:https://hupk.se/event/ipsc-kurs-del-2/
LOCATION:Vågbacken skjutbana\, Vågbacken skjutbana\, Hagfors\, 68340\, Sweden
END:VEVENT
BEGIN:VEVENT
DTSTART;TZID=Europe/Stockholm:20230325T100000
DTEND;TZID=Europe/Stockholm:20230325T170000
DTSTAMP:20260420T103352
CREATED:20230314T162641Z
LAST-MODIFIED:20230314T162641Z
UID:85-1679738400-1679763600@hupk.se
SUMMARY:IPSC Kurs\, del 1
DESCRIPTION:IPSC kurs på banan
URL:https://hupk.se/event/ipsc-kurs-del-1/
LOCATION:Vågbacken skjutbana\, Vågbacken skjutbana\, Hagfors\, 68340\, Sweden
END:VEVENT
BEGIN:VEVENT
DTSTART;TZID=Europe/Stockholm:20230319T100000
DTEND;TZID=Europe/Stockholm:20230319T140000
DTSTAMP:20260420T103352
CREATED:20230314T151643Z
LAST-MODIFIED:20230314T151643Z
UID:16-1679220000-1679234400@hupk.se
SUMMARY:Klubbmästerskap Fält
DESCRIPTION:Vi kommer ha Klubbmästerskap i fält med C- och A-vapen
URL:https://hupk.se/event/klubbmasterskap-falt/
LOCATION:Vågbacken skjutbana\, Vågbacken skjutbana\, Hagfors\, 68340\, Sweden
END:VEVENT
END:VCALENDAR