BEGIN:VCALENDAR
VERSION:2.0
PRODID:-//Hagfors-Uddeholms Pistolskytteklubb - ECPv6.15.20//NONSGML v1.0//EN
CALSCALE:GREGORIAN
METHOD:PUBLISH
X-WR-CALNAME:Hagfors-Uddeholms Pistolskytteklubb
X-ORIGINAL-URL:https://hupk.se
X-WR-CALDESC:Händelser för Hagfors-Uddeholms Pistolskytteklubb
REFRESH-INTERVAL;VALUE=DURATION:PT1H
X-Robots-Tag:noindex
X-PUBLISHED-TTL:PT1H
BEGIN:VTIMEZONE
TZID:Europe/Stockholm
BEGIN:DAYLIGHT
TZOFFSETFROM:+0100
TZOFFSETTO:+0200
TZNAME:CEST
DTSTART:20220327T010000
END:DAYLIGHT
BEGIN:STANDARD
TZOFFSETFROM:+0200
TZOFFSETTO:+0100
TZNAME:CET
DTSTART:20221030T010000
END:STANDARD
BEGIN:DAYLIGHT
TZOFFSETFROM:+0100
TZOFFSETTO:+0200
TZNAME:CEST
DTSTART:20230326T010000
END:DAYLIGHT
BEGIN:STANDARD
TZOFFSETFROM:+0200
TZOFFSETTO:+0100
TZNAME:CET
DTSTART:20231029T010000
END:STANDARD
BEGIN:DAYLIGHT
TZOFFSETFROM:+0100
TZOFFSETTO:+0200
TZNAME:CEST
DTSTART:20240331T010000
END:DAYLIGHT
BEGIN:STANDARD
TZOFFSETFROM:+0200
TZOFFSETTO:+0100
TZNAME:CET
DTSTART:20241027T010000
END:STANDARD
END:VTIMEZONE
BEGIN:VEVENT
DTSTART;TZID=Europe/Stockholm:20230410T090000
DTEND;TZID=Europe/Stockholm:20230410T170000
DTSTAMP:20260423T180748
CREATED:20230314T163102Z
LAST-MODIFIED:20260110T200020Z
UID:89-1681117200-1681146000@hupk.se
SUMMARY:IPSC examinering
DESCRIPTION:IPSC examinering på banan \nBanan är stängd för övrigt skytte 08.00-17.00 \nVänligen respektera.
URL:https://hupk.se/event/ipsc-examinering/
LOCATION:Vågbacken skjutbana\, Vågbacken skjutbana\, Hagfors\, 68340\, Sweden
END:VEVENT
BEGIN:VEVENT
DTSTART;TZID=Europe/Stockholm:20230415T100000
DTEND;TZID=Europe/Stockholm:20230415T160000
DTSTAMP:20260423T180748
CREATED:20230412T165845Z
LAST-MODIFIED:20230412T165845Z
UID:95-1681552800-1681574400@hupk.se
SUMMARY:KM fältskytte B+R
DESCRIPTION:Nu på lördag 15/4 så kommer vi ha ett KM i fältskytte i vapengrupperna B och R.\nVi drar igång kl 10.00\nDet är givetvis inget måste att skjuta just B eller R utan alla är välkomna att deltaga oavsett vilket vapen man skjuter med. \nVapen finns att låna så passa på att prova på fältskytte 🙂 \nKontakta gärna Stefan om ni skulle vara sugna och behöver låna vapen.
URL:https://hupk.se/event/km-faltskytte-br/
LOCATION:Vågbacken skjutbana\, Vågbacken skjutbana\, Hagfors\, 68340\, Sweden
END:VEVENT
BEGIN:VEVENT
DTSTART;TZID=Europe/Stockholm:20230425T180000
DTEND;TZID=Europe/Stockholm:20230425T200000
DTSTAMP:20260423T180748
CREATED:20230417T183546Z
LAST-MODIFIED:20230417T183546Z
UID:100-1682445600-1682452800@hupk.se
SUMMARY:Träning
DESCRIPTION:
URL:https://hupk.se/event/traning/
LOCATION:Vågbacken skjutbana\, Vågbacken skjutbana\, Hagfors\, 68340\, Sweden
CATEGORIES:Träning
END:VEVENT
END:VCALENDAR