BEGIN:VCALENDAR
VERSION:2.0
PRODID:-//Hagfors-Uddeholms Pistolskytteklubb - ECPv6.15.20//NONSGML v1.0//EN
CALSCALE:GREGORIAN
METHOD:PUBLISH
X-WR-CALNAME:Hagfors-Uddeholms Pistolskytteklubb
X-ORIGINAL-URL:https://hupk.se
X-WR-CALDESC:Händelser för Hagfors-Uddeholms Pistolskytteklubb
REFRESH-INTERVAL;VALUE=DURATION:PT1H
X-Robots-Tag:noindex
X-PUBLISHED-TTL:PT1H
BEGIN:VTIMEZONE
TZID:Europe/Stockholm
BEGIN:DAYLIGHT
TZOFFSETFROM:+0100
TZOFFSETTO:+0200
TZNAME:CEST
DTSTART:20220327T010000
END:DAYLIGHT
BEGIN:STANDARD
TZOFFSETFROM:+0200
TZOFFSETTO:+0100
TZNAME:CET
DTSTART:20221030T010000
END:STANDARD
BEGIN:DAYLIGHT
TZOFFSETFROM:+0100
TZOFFSETTO:+0200
TZNAME:CEST
DTSTART:20230326T010000
END:DAYLIGHT
BEGIN:STANDARD
TZOFFSETFROM:+0200
TZOFFSETTO:+0100
TZNAME:CET
DTSTART:20231029T010000
END:STANDARD
BEGIN:DAYLIGHT
TZOFFSETFROM:+0100
TZOFFSETTO:+0200
TZNAME:CEST
DTSTART:20240331T010000
END:DAYLIGHT
BEGIN:STANDARD
TZOFFSETFROM:+0200
TZOFFSETTO:+0100
TZNAME:CET
DTSTART:20241027T010000
END:STANDARD
END:VTIMEZONE
BEGIN:VEVENT
DTSTART;VALUE=DATE:20230701
DTEND;VALUE=DATE:20230703
DTSTAMP:20260423T140500
CREATED:20230628T085330Z
LAST-MODIFIED:20230628T085330Z
UID:119-1688169600-1688342399@hupk.se
SUMMARY:Skjutförbud
DESCRIPTION:Nu på lördag och söndag (1:a och 2:a juli) så är det skjutförbud på våra banor.\nDetta pga att jaktskytteklubben kommer hålla SM-uttagning i hagel och dom kommer låna vår parkering.
URL:https://hupk.se/event/skjutforbud/
LOCATION:Vågbacken skjutbana\, Vågbacken skjutbana\, Hagfors\, 68340\, Sweden
END:VEVENT
BEGIN:VEVENT
DTSTART;TZID=Europe/Stockholm:20230722T080000
DTEND;TZID=Europe/Stockholm:20230722T170000
DTSTAMP:20260423T140500
CREATED:20230702T095115Z
LAST-MODIFIED:20230702T095137Z
UID:123-1690012800-1690045200@hupk.se
SUMMARY:Nationell tävling i Militär Snabbmatch
DESCRIPTION:Hagfors – Uddeholms PK bjuder in till en tävling i Militär Snabbmatch den 22:a Juli \nVarmt välkommen med din anmälan \nInbjudan Milsnabb
URL:https://hupk.se/event/nationell-tavling-i-militar-snabbmatch/
END:VEVENT
END:VCALENDAR