BEGIN:VCALENDAR
VERSION:2.0
PRODID:-//Hagfors-Uddeholms Pistolskytteklubb - ECPv6.15.20//NONSGML v1.0//EN
CALSCALE:GREGORIAN
METHOD:PUBLISH
X-ORIGINAL-URL:https://hupk.se
X-WR-CALDESC:Händelser för Hagfors-Uddeholms Pistolskytteklubb
REFRESH-INTERVAL;VALUE=DURATION:PT1H
X-Robots-Tag:noindex
X-PUBLISHED-TTL:PT1H
BEGIN:VTIMEZONE
TZID:Europe/Stockholm
BEGIN:DAYLIGHT
TZOFFSETFROM:+0100
TZOFFSETTO:+0200
TZNAME:CEST
DTSTART:20220327T010000
END:DAYLIGHT
BEGIN:STANDARD
TZOFFSETFROM:+0200
TZOFFSETTO:+0100
TZNAME:CET
DTSTART:20221030T010000
END:STANDARD
BEGIN:DAYLIGHT
TZOFFSETFROM:+0100
TZOFFSETTO:+0200
TZNAME:CEST
DTSTART:20230326T010000
END:DAYLIGHT
BEGIN:STANDARD
TZOFFSETFROM:+0200
TZOFFSETTO:+0100
TZNAME:CET
DTSTART:20231029T010000
END:STANDARD
BEGIN:DAYLIGHT
TZOFFSETFROM:+0100
TZOFFSETTO:+0200
TZNAME:CEST
DTSTART:20240331T010000
END:DAYLIGHT
BEGIN:STANDARD
TZOFFSETFROM:+0200
TZOFFSETTO:+0100
TZNAME:CET
DTSTART:20241027T010000
END:STANDARD
END:VTIMEZONE
BEGIN:VEVENT
DTSTART;TZID=Europe/Stockholm:20230804T100000
DTEND;TZID=Europe/Stockholm:20230804T160000
DTSTAMP:20260423T125122
CREATED:20230731T094714Z
LAST-MODIFIED:20230731T094714Z
UID:202-1691143200-1691164800@hupk.se
SUMMARY:Arbetsdag Värmlandscupen IPSC
DESCRIPTION:Arbetsdag inför vår deltävling i Värmlandscupen i IPSC \n 
URL:https://hupk.se/event/arbetsdag-varmlandscupen-ipsc/
END:VEVENT
BEGIN:VEVENT
DTSTART;TZID=Europe/Stockholm:20230812T100000
DTEND;TZID=Europe/Stockholm:20230812T160000
DTSTAMP:20260423T125122
CREATED:20230809T181304Z
LAST-MODIFIED:20230809T181304Z
UID:249-1691834400-1691856000@hupk.se
SUMMARY:50-yards banan bokad för PPC-skytte
DESCRIPTION:50-yards banan bokad för PPC-skytte. \nSker mellan 10.00-16.00 ca
URL:https://hupk.se/event/50-yards-banan-bokad-for-ppc-skytte/
CATEGORIES:Träning
END:VEVENT
BEGIN:VEVENT
DTSTART;TZID=Europe/Stockholm:20230813T100000
DTEND;TZID=Europe/Stockholm:20230813T150000
DTSTAMP:20260423T125122
CREATED:20230810T162518Z
LAST-MODIFIED:20230810T162518Z
UID:251-1691920800-1691938800@hupk.se
SUMMARY:Arbetsdag Inför Värmlandscupen i IPSC
DESCRIPTION:Arbetsdag inför våra deltävlingar i Värmlandscupen i IPSC. \nVi har lite saker kvar som ska byggas.
URL:https://hupk.se/event/arbetsdag-infor-varmlandscupen-i-ipsc/
CATEGORIES:Arbetsdag
END:VEVENT
END:VCALENDAR