BEGIN:VCALENDAR
VERSION:2.0
PRODID:-//Hagfors-Uddeholms Pistolskytteklubb - ECPv6.15.20//NONSGML v1.0//EN
CALSCALE:GREGORIAN
METHOD:PUBLISH
X-ORIGINAL-URL:https://hupk.se
X-WR-CALDESC:Händelser för Hagfors-Uddeholms Pistolskytteklubb
REFRESH-INTERVAL;VALUE=DURATION:PT1H
X-Robots-Tag:noindex
X-PUBLISHED-TTL:PT1H
BEGIN:VTIMEZONE
TZID:Europe/Stockholm
BEGIN:DAYLIGHT
TZOFFSETFROM:+0100
TZOFFSETTO:+0200
TZNAME:CEST
DTSTART:20240331T010000
END:DAYLIGHT
BEGIN:STANDARD
TZOFFSETFROM:+0200
TZOFFSETTO:+0100
TZNAME:CET
DTSTART:20241027T010000
END:STANDARD
BEGIN:DAYLIGHT
TZOFFSETFROM:+0100
TZOFFSETTO:+0200
TZNAME:CEST
DTSTART:20250330T010000
END:DAYLIGHT
BEGIN:STANDARD
TZOFFSETFROM:+0200
TZOFFSETTO:+0100
TZNAME:CET
DTSTART:20251026T010000
END:STANDARD
BEGIN:DAYLIGHT
TZOFFSETFROM:+0100
TZOFFSETTO:+0200
TZNAME:CEST
DTSTART:20260329T010000
END:DAYLIGHT
BEGIN:STANDARD
TZOFFSETFROM:+0200
TZOFFSETTO:+0100
TZNAME:CET
DTSTART:20261025T010000
END:STANDARD
END:VTIMEZONE
BEGIN:VEVENT
DTSTART;TZID=Europe/Stockholm:20250401T180000
DTEND;TZID=Europe/Stockholm:20250401T193000
DTSTAMP:20260420T081536
CREATED:20250126T160054Z
LAST-MODIFIED:20250126T160054Z
UID:899-1743530400-1743535800@hupk.se
SUMMARY:Luftpistolträning
DESCRIPTION:Luftpistolträning i Älvstranden. Ingång vid simhallen\, gå förbi bowlinghallen\, säkerhetsdörren till vänster och därefter genom den smala passagen. Utrustning finns att låna\, medtag hörselskydd. Max åtta (8) deltagare. Föranmälan genom intresseanmälan i Skytteportalen. Kontakt Lars Höglin. Kontaktuppgifter till Lars finns under ”Kontakt”
URL:https://hupk.se/event/luftpistoltraning-13/
LOCATION:Älvstranden
CATEGORIES:Luftpistol,Träning
END:VEVENT
BEGIN:VEVENT
DTSTART;VALUE=DATE:20250407
DTEND;VALUE=DATE:20250408
DTSTAMP:20260420T081536
CREATED:20250326T150433Z
LAST-MODIFIED:20250328T210246Z
UID:935-1743984000-1744070399@hupk.se
SUMMARY:Sista anmälningsdag för Hemortens Rikstävling
DESCRIPTION:Inbjudan Precision\nInbjudan Magnum Precision \nAnmälan görs till Sekreterare.hupk@gmail.com
URL:https://hupk.se/event/sista-anmalnigsdag-for-hemortens-rikstavling/
END:VEVENT
BEGIN:VEVENT
DTSTART;TZID=Europe/Stockholm:20250408T180000
DTEND;TZID=Europe/Stockholm:20250408T193000
DTSTAMP:20260420T081536
CREATED:20250126T160138Z
LAST-MODIFIED:20250126T160138Z
UID:901-1744135200-1744140600@hupk.se
SUMMARY:Luftpistolträning
DESCRIPTION:Luftpistolträning i Älvstranden. Ingång vid simhallen\, gå förbi bowlinghallen\, säkerhetsdörren till vänster och därefter genom den smala passagen. Utrustning finns att låna\, medtag hörselskydd. Max åtta (8) deltagare. Föranmälan genom intresseanmälan i Skytteportalen. Kontakt Lars Höglin. Kontaktuppgifter till Lars finns under ”Kontakt”
URL:https://hupk.se/event/luftpistoltraning-14/
LOCATION:Älvstranden
CATEGORIES:Luftpistol,Träning
END:VEVENT
BEGIN:VEVENT
DTSTART;TZID=Europe/Stockholm:20250415T163000
DTEND;TZID=Europe/Stockholm:20250415T190000
DTSTAMP:20260420T081536
CREATED:20250411T145419Z
LAST-MODIFIED:20250411T145419Z
UID:969-1744734600-1744743600@hupk.se
SUMMARY:Arbetskväll
DESCRIPTION:
URL:https://hupk.se/event/arbetskvall/
LOCATION:Vågbacken skjutbana\, Vågbacken skjutbana\, Hagfors\, 68340\, Sweden
CATEGORIES:Arbetsdag
END:VEVENT
BEGIN:VEVENT
DTSTART;TZID=Europe/Stockholm:20250415T180000
DTEND;TZID=Europe/Stockholm:20250415T200000
DTSTAMP:20260420T081536
CREATED:20250126T160254Z
LAST-MODIFIED:20250126T160254Z
UID:903-1744740000-1744747200@hupk.se
SUMMARY:Luftpistolträning. Avslutning och klubbmästerskap
DESCRIPTION:Luftpistolträning i Älvstranden. Ingång vid simhallen\, gå förbi bowlinghallen\, säkerhetsdörren till vänster och därefter genom den smala passagen. Utrustning finns att låna\, medtag hörselskydd. Max åtta (8) deltagare. Föranmälan genom intresseanmälan i Skytteportalen. Kontakt Lars Höglin. Kontaktuppgifter till Lars finns under ”Kontakt”
URL:https://hupk.se/event/luftpistoltraning-avslutning-och-klubbmasterskap/
LOCATION:Älvstranden
CATEGORIES:Luftpistol,Träning
END:VEVENT
BEGIN:VEVENT
DTSTART;TZID=Europe/Stockholm:20250417T180000
DTEND;TZID=Europe/Stockholm:20250417T200000
DTSTAMP:20260420T081536
CREATED:20250408T150132Z
LAST-MODIFIED:20250408T150132Z
UID:965-1744912800-1744920000@hupk.se
SUMMARY:Utbildning Skytteportalen
DESCRIPTION:Nu har vi använt Skytteportalen i lite över ett år. De som använder den har säkert frågor och funderingar. Ta med dessa! Kan vi ändra benämning mm för att passa bättre för oss? Givetvis blir det genomgång av grunderna för de som ännu inte provat portalen. Du kan även delta digitalt! Välkomna
URL:https://hupk.se/event/utbildning-skytteportalen/
LOCATION:Hagfors Flygplats
CATEGORIES:Utbildning
END:VEVENT
BEGIN:VEVENT
DTSTART;VALUE=DATE:20250420
DTEND;VALUE=DATE:20250421
DTSTAMP:20260420T081536
CREATED:20250328T204311Z
LAST-MODIFIED:20250328T204646Z
UID:940-1745107200-1745193599@hupk.se
SUMMARY:Kretsmästerskap Magnumprecision
DESCRIPTION:Hagfors arrangerar nationell tävling. \nKlubbmästerskap i Magnumprecision för HUPK skjuts i samband med denna tävling \nLänk till inbjudan.
URL:https://hupk.se/event/kretsmasterskap-magnumprecision/
LOCATION:Vågbacken skjutbana\, Vågbacken skjutbana\, Hagfors\, 68340\, Sweden
CATEGORIES:KM,Magnum
END:VEVENT
BEGIN:VEVENT
DTSTART;TZID=Europe/Stockholm:20250429T180000
DTEND;TZID=Europe/Stockholm:20250429T200000
DTSTAMP:20260420T081536
CREATED:20250328T210203Z
LAST-MODIFIED:20250429T062657Z
UID:960-1745949600-1745956800@hupk.se
SUMMARY:Tisdagsträning
DESCRIPTION:Planerad start på tisdagträningen. \nInfo Tisdagsträning
URL:https://hupk.se/event/tisdagstraning/
LOCATION:Vågbacken skjutbana\, Vågbacken skjutbana\, Hagfors\, 68340\, Sweden
CATEGORIES:Precision,Träning
END:VEVENT
END:VCALENDAR