BEGIN:VCALENDAR
VERSION:2.0
PRODID:-//Hagfors-Uddeholms Pistolskytteklubb - ECPv6.15.20//NONSGML v1.0//EN
CALSCALE:GREGORIAN
METHOD:PUBLISH
X-ORIGINAL-URL:https://hupk.se
X-WR-CALDESC:Händelser för Hagfors-Uddeholms Pistolskytteklubb
REFRESH-INTERVAL;VALUE=DURATION:PT1H
X-Robots-Tag:noindex
X-PUBLISHED-TTL:PT1H
BEGIN:VTIMEZONE
TZID:Europe/Stockholm
BEGIN:DAYLIGHT
TZOFFSETFROM:+0100
TZOFFSETTO:+0200
TZNAME:CEST
DTSTART:20240331T010000
END:DAYLIGHT
BEGIN:STANDARD
TZOFFSETFROM:+0200
TZOFFSETTO:+0100
TZNAME:CET
DTSTART:20241027T010000
END:STANDARD
BEGIN:DAYLIGHT
TZOFFSETFROM:+0100
TZOFFSETTO:+0200
TZNAME:CEST
DTSTART:20250330T010000
END:DAYLIGHT
BEGIN:STANDARD
TZOFFSETFROM:+0200
TZOFFSETTO:+0100
TZNAME:CET
DTSTART:20251026T010000
END:STANDARD
BEGIN:DAYLIGHT
TZOFFSETFROM:+0100
TZOFFSETTO:+0200
TZNAME:CEST
DTSTART:20260329T010000
END:DAYLIGHT
BEGIN:STANDARD
TZOFFSETFROM:+0200
TZOFFSETTO:+0100
TZNAME:CET
DTSTART:20261025T010000
END:STANDARD
END:VTIMEZONE
BEGIN:VEVENT
DTSTART;TZID=Europe/Stockholm:20250902T180000
DTEND;TZID=Europe/Stockholm:20250902T200000
DTSTAMP:20260419T233223
CREATED:20250825T143234Z
LAST-MODIFIED:20250825T143234Z
UID:1190-1756836000-1756843200@hupk.se
SUMMARY:Tisdagsträning
DESCRIPTION:
URL:https://hupk.se/event/tisdagstraning-3/
LOCATION:Vågbacken skjutbana\, Vågbacken skjutbana\, Hagfors\, 68340\, Sweden
CATEGORIES:Precision,Träning
END:VEVENT
BEGIN:VEVENT
DTSTART;TZID=Europe/Stockholm:20250909T170000
DTEND;TZID=Europe/Stockholm:20250909T190000
DTSTAMP:20260419T233223
CREATED:20250825T143315Z
LAST-MODIFIED:20250903T144307Z
UID:1192-1757437200-1757444400@hupk.se
SUMMARY:Tisdagsträning
DESCRIPTION:
URL:https://hupk.se/event/tisdagstraning-4/
LOCATION:Vågbacken skjutbana\, Vågbacken skjutbana\, Hagfors\, 68340\, Sweden
CATEGORIES:Precision,Träning
END:VEVENT
BEGIN:VEVENT
DTSTART;TZID=Europe/Stockholm:20250916T170000
DTEND;TZID=Europe/Stockholm:20250916T190000
DTSTAMP:20260419T233223
CREATED:20250825T143359Z
LAST-MODIFIED:20250903T144237Z
UID:1194-1758042000-1758049200@hupk.se
SUMMARY:Tisdagsträning
DESCRIPTION:
URL:https://hupk.se/event/tisdagstraning-5/
LOCATION:Vågbacken skjutbana\, Vågbacken skjutbana\, Hagfors\, 68340\, Sweden
CATEGORIES:Precision,Träning
END:VEVENT
BEGIN:VEVENT
DTSTART;TZID=Europe/Stockholm:20250920T090000
DTEND;TZID=Europe/Stockholm:20250920T120000
DTSTAMP:20260419T233223
CREATED:20250825T144123Z
LAST-MODIFIED:20250825T144123Z
UID:1202-1758358800-1758369600@hupk.se
SUMMARY:Arbetsdag Militär snabbmatch
DESCRIPTION:
URL:https://hupk.se/event/arbetsdag-militar-snabbmatch/
LOCATION:Vågbacken skjutbana\, Vågbacken skjutbana\, Hagfors\, 68340\, Sweden
CATEGORIES:Arbetsdag
END:VEVENT
BEGIN:VEVENT
DTSTART;TZID=Europe/Stockholm:20250923T170000
DTEND;TZID=Europe/Stockholm:20250923T190000
DTSTAMP:20260419T233223
CREATED:20250825T143523Z
LAST-MODIFIED:20250903T144203Z
UID:1198-1758646800-1758654000@hupk.se
SUMMARY:Tisdagsträning
DESCRIPTION:
URL:https://hupk.se/event/tisdagstraning-7/
LOCATION:Vågbacken skjutbana\, Vågbacken skjutbana\, Hagfors\, 68340\, Sweden
CATEGORIES:Precision,Träning
END:VEVENT
BEGIN:VEVENT
DTSTART;TZID=Europe/Stockholm:20250924T180000
DTEND;TZID=Europe/Stockholm:20250924T200000
DTSTAMP:20260419T233223
CREATED:20250825T144335Z
LAST-MODIFIED:20250825T144335Z
UID:1206-1758736800-1758744000@hupk.se
SUMMARY:Styrelsemöte
DESCRIPTION:
URL:https://hupk.se/event/styrelsemote-2/
LOCATION:Vågbacken skjutbana\, Vågbacken skjutbana\, Hagfors\, 68340\, Sweden
END:VEVENT
BEGIN:VEVENT
DTSTART;TZID=Europe/Stockholm:20250928T080000
DTEND;TZID=Europe/Stockholm:20250928T170000
DTSTAMP:20260419T233223
CREATED:20250328T205614Z
LAST-MODIFIED:20250831T200009Z
UID:954-1759046400-1759078800@hupk.se
SUMMARY:Landsdelsmästerskap i Militär snabbmatch
DESCRIPTION:HUPK arrangerar VSM (Västsvenska mästerskapen) i Militär snabbmatch\nI landsdel Väst ingår följande kretsar: Värmland\, Örebro\, Skaraborg\, Göteborg\, Älvsborg\, Västgöta-Dals.\nKlubbmästerskap HUPK skjuts i samband med denna tävling. \nInbjudan \n 
URL:https://hupk.se/event/landsdelsmasterskap-i-militar-snabbmatch/
LOCATION:Vågbacken skjutbana\, Vågbacken skjutbana\, Hagfors\, 68340\, Sweden
CATEGORIES:KM,Milsnabb
END:VEVENT
BEGIN:VEVENT
DTSTART;TZID=Europe/Stockholm:20250930T170000
DTEND;TZID=Europe/Stockholm:20250930T190000
DTSTAMP:20260419T233223
CREATED:20250825T143744Z
LAST-MODIFIED:20250903T144135Z
UID:1200-1759251600-1759258800@hupk.se
SUMMARY:Tisdagsträning
DESCRIPTION:
URL:https://hupk.se/event/tisdagstraning-8/
LOCATION:Vågbacken skjutbana\, Vågbacken skjutbana\, Hagfors\, 68340\, Sweden
CATEGORIES:Precision,Träning
END:VEVENT
END:VCALENDAR