BEGIN:VCALENDAR
VERSION:2.0
PRODID:-//Hagfors-Uddeholms Pistolskytteklubb - ECPv6.15.20//NONSGML v1.0//EN
CALSCALE:GREGORIAN
METHOD:PUBLISH
X-ORIGINAL-URL:https://hupk.se
X-WR-CALDESC:Händelser för Hagfors-Uddeholms Pistolskytteklubb
REFRESH-INTERVAL;VALUE=DURATION:PT1H
X-Robots-Tag:noindex
X-PUBLISHED-TTL:PT1H
BEGIN:VTIMEZONE
TZID:Europe/Stockholm
BEGIN:DAYLIGHT
TZOFFSETFROM:+0100
TZOFFSETTO:+0200
TZNAME:CEST
DTSTART:20240331T010000
END:DAYLIGHT
BEGIN:STANDARD
TZOFFSETFROM:+0200
TZOFFSETTO:+0100
TZNAME:CET
DTSTART:20241027T010000
END:STANDARD
BEGIN:DAYLIGHT
TZOFFSETFROM:+0100
TZOFFSETTO:+0200
TZNAME:CEST
DTSTART:20250330T010000
END:DAYLIGHT
BEGIN:STANDARD
TZOFFSETFROM:+0200
TZOFFSETTO:+0100
TZNAME:CET
DTSTART:20251026T010000
END:STANDARD
BEGIN:DAYLIGHT
TZOFFSETFROM:+0100
TZOFFSETTO:+0200
TZNAME:CEST
DTSTART:20260329T010000
END:DAYLIGHT
BEGIN:STANDARD
TZOFFSETFROM:+0200
TZOFFSETTO:+0100
TZNAME:CET
DTSTART:20261025T010000
END:STANDARD
END:VTIMEZONE
BEGIN:VEVENT
DTSTART;TZID=Europe/Stockholm:20251101T100000
DTEND;TZID=Europe/Stockholm:20251101T140000
DTSTAMP:20260419T200548
CREATED:20251019T070526Z
LAST-MODIFIED:20251019T070733Z
UID:1220-1761991200-1762005600@hupk.se
SUMMARY:Höstfält 2
DESCRIPTION:Fälttävling i samma modell som Vinterfälten. \nPoängfält\, 4st stationer x 2\, 1:a varvet med stödhand. 48 skott \nSkjuttid C + B-vapen 12s\, A + R 15s \nTävlingen öppen för HUPK´s  medlemmar. Även nybörjare! \nAvgift 20kr/start. \nGrill när vi skjutit klart!
URL:https://hupk.se/event/hostfalt-2/
LOCATION:Vågbacken skjutbana\, Vågbacken skjutbana\, Hagfors\, 68340\, Sweden
CATEGORIES:Fält
END:VEVENT
BEGIN:VEVENT
DTSTART;TZID=Europe/Stockholm:20251104T180000
DTEND;TZID=Europe/Stockholm:20251104T200000
DTSTAMP:20260419T200548
CREATED:20251102T171949Z
LAST-MODIFIED:20251102T171949Z
UID:1240-1762279200-1762286400@hupk.se
SUMMARY:Luftpistolträning
DESCRIPTION:Gör gärna anmälan i Skytteportalen så att vi vet hur många som kommer. \nLuftpistoler finns till utlåning under träningen utan kostnad. \nLedare på plats: Lars Höglin \nHitta: Gå in vid badet\, förbi bowlinghallen och se skyltning Luftvapenhall till vänster. \nKostnad: 500 skott = 140kr
URL:https://hupk.se/event/luftpistoltraning-16/
LOCATION:Älvstranden
CATEGORIES:Luftpistol
END:VEVENT
BEGIN:VEVENT
DTSTART;TZID=Europe/Stockholm:20251107T180000
DTEND;TZID=Europe/Stockholm:20251107T200000
DTSTAMP:20260419T200548
CREATED:20251102T172537Z
LAST-MODIFIED:20251102T172537Z
UID:1254-1762538400-1762545600@hupk.se
SUMMARY:Styrelsemöte
DESCRIPTION:
URL:https://hupk.se/event/styrelsemote-3/
LOCATION:Vågbacken skjutbana\, Vågbacken skjutbana\, Hagfors\, 68340\, Sweden
END:VEVENT
BEGIN:VEVENT
DTSTART;TZID=Europe/Stockholm:20251111T180000
DTEND;TZID=Europe/Stockholm:20251111T200000
DTSTAMP:20260419T200548
CREATED:20251102T172020Z
LAST-MODIFIED:20251102T172020Z
UID:1242-1762884000-1762891200@hupk.se
SUMMARY:Luftpistolträning
DESCRIPTION:Gör gärna anmälan i Skytteportalen så att vi vet hur många som kommer. \nLuftpistoler finns till utlåning under träningen utan kostnad. \nLedare på plats: Lars Höglin \nHitta: Gå in vid badet\, förbi bowlinghallen och se skyltning Luftvapenhall till vänster. \nKostnad: 500 skott = 140kr
URL:https://hupk.se/event/luftpistoltraning-17/
LOCATION:Älvstranden
CATEGORIES:Luftpistol
END:VEVENT
BEGIN:VEVENT
DTSTART;TZID=Europe/Stockholm:20251116T100000
DTEND;TZID=Europe/Stockholm:20251116T143000
DTSTAMP:20260419T200548
CREATED:20251101T140655Z
LAST-MODIFIED:20251101T220015Z
UID:1234-1763287200-1763303400@hupk.se
SUMMARY:Höstfält 3
DESCRIPTION:Med bra väder kör vi Höstfält 3\, med dåligt väder kör vi Militär Snabbmatch istället.
URL:https://hupk.se/event/hostfalt-3/
LOCATION:Vågbacken skjutbana\, Vågbacken skjutbana\, Hagfors\, 68340\, Sweden
CATEGORIES:Fält
END:VEVENT
BEGIN:VEVENT
DTSTART;TZID=Europe/Stockholm:20251118T180000
DTEND;TZID=Europe/Stockholm:20251118T200000
DTSTAMP:20260419T200548
CREATED:20251102T172055Z
LAST-MODIFIED:20251102T172055Z
UID:1244-1763488800-1763496000@hupk.se
SUMMARY:Luftpistolträning
DESCRIPTION:Gör gärna anmälan i Skytteportalen så att vi vet hur många som kommer. \nLuftpistoler finns till utlåning under träningen utan kostnad. \nLedare på plats: Lars Höglin \nHitta: Gå in vid badet\, förbi bowlinghallen och se skyltning Luftvapenhall till vänster. \nKostnad: 500 skott = 140kr
URL:https://hupk.se/event/luftpistoltraning-18/
LOCATION:Älvstranden
CATEGORIES:Luftpistol
END:VEVENT
BEGIN:VEVENT
DTSTART;TZID=Europe/Stockholm:20251125T180000
DTEND;TZID=Europe/Stockholm:20251125T200000
DTSTAMP:20260419T200548
CREATED:20251102T172127Z
LAST-MODIFIED:20251102T172127Z
UID:1246-1764093600-1764100800@hupk.se
SUMMARY:Luftpistolträning
DESCRIPTION:Gör gärna anmälan i Skytteportalen så att vi vet hur många som kommer. \nLuftpistoler finns till utlåning under träningen utan kostnad. \nLedare på plats: Lars Höglin \nHitta: Gå in vid badet\, förbi bowlinghallen och se skyltning Luftvapenhall till vänster. \nKostnad: 500 skott = 140kr
URL:https://hupk.se/event/luftpistoltraning-19/
LOCATION:Älvstranden
CATEGORIES:Luftpistol
END:VEVENT
BEGIN:VEVENT
DTSTART;TZID=Europe/Stockholm:20251130T100000
DTEND;TZID=Europe/Stockholm:20251130T140000
DTSTAMP:20260419T200548
CREATED:20251120T153154Z
LAST-MODIFIED:20251120T153154Z
UID:1262-1764496800-1764511200@hupk.se
SUMMARY:Höstfält 4
DESCRIPTION:Fälttävling i samma modell som Vinterfälten. \nPoängfält\, 4st stationer x 2\, 1:a varvet med stödhand. 48 skott \nSkjuttid C + B-vapen 12s\, A + R 15s \nTävlingen öppen för HUPK´s  medlemmar. Avgift 20kr/start.
URL:https://hupk.se/event/hostfalt-4/
LOCATION:Vågbacken skjutbana\, Vågbacken skjutbana\, Hagfors\, 68340\, Sweden
CATEGORIES:Fält,Träning
END:VEVENT
END:VCALENDAR