BEGIN:VCALENDAR
VERSION:2.0
PRODID:-//Hagfors-Uddeholms Pistolskytteklubb - ECPv6.15.20//NONSGML v1.0//EN
CALSCALE:GREGORIAN
METHOD:PUBLISH
X-WR-CALNAME:Hagfors-Uddeholms Pistolskytteklubb
X-ORIGINAL-URL:https://hupk.se
X-WR-CALDESC:Händelser för Hagfors-Uddeholms Pistolskytteklubb
REFRESH-INTERVAL;VALUE=DURATION:PT1H
X-Robots-Tag:noindex
X-PUBLISHED-TTL:PT1H
BEGIN:VTIMEZONE
TZID:Europe/Stockholm
BEGIN:DAYLIGHT
TZOFFSETFROM:+0100
TZOFFSETTO:+0200
TZNAME:CEST
DTSTART:20250330T010000
END:DAYLIGHT
BEGIN:STANDARD
TZOFFSETFROM:+0200
TZOFFSETTO:+0100
TZNAME:CET
DTSTART:20251026T010000
END:STANDARD
BEGIN:DAYLIGHT
TZOFFSETFROM:+0100
TZOFFSETTO:+0200
TZNAME:CEST
DTSTART:20260329T010000
END:DAYLIGHT
BEGIN:STANDARD
TZOFFSETFROM:+0200
TZOFFSETTO:+0100
TZNAME:CET
DTSTART:20261025T010000
END:STANDARD
BEGIN:DAYLIGHT
TZOFFSETFROM:+0100
TZOFFSETTO:+0200
TZNAME:CEST
DTSTART:20270328T010000
END:DAYLIGHT
BEGIN:STANDARD
TZOFFSETFROM:+0200
TZOFFSETTO:+0100
TZNAME:CET
DTSTART:20271031T010000
END:STANDARD
END:VTIMEZONE
BEGIN:VEVENT
DTSTART;VALUE=DATE:20260423
DTEND;VALUE=DATE:20260608
DTSTAMP:20260419T152333
CREATED:20260105T104429Z
LAST-MODIFIED:20260105T104429Z
UID:1425-1776902400-1780876799@hupk.se
SUMMARY:Rikstävlingen hemortens banor\, precision och magnumprecision
DESCRIPTION:Mer information kommer
URL:https://hupk.se/event/rikstavlingen-hemortens-banor-precision-och-magnumprecision/
LOCATION:Vågbacken skjutbana\, Vågbacken skjutbana\, Hagfors\, 68340\, Sweden
CATEGORIES:Magnum,Precision
END:VEVENT
BEGIN:VEVENT
DTSTART;TZID=Europe/Stockholm:20260601T180000
DTEND;TZID=Europe/Stockholm:20260601T200000
DTSTAMP:20260419T152333
CREATED:20260105T104828Z
LAST-MODIFIED:20260105T104828Z
UID:1435-1780336800-1780344000@hupk.se
SUMMARY:Styrelsemöte HUPK
DESCRIPTION:
URL:https://hupk.se/event/styrelsemote-hupk-5/
END:VEVENT
BEGIN:VEVENT
DTSTART;VALUE=DATE:20260606
DTEND;VALUE=DATE:20260607
DTSTAMP:20260419T152333
CREATED:20260105T102037Z
LAST-MODIFIED:20260105T102037Z
UID:1377-1780704000-1780790399@hupk.se
SUMMARY:Tävling Precision Jössetavlan\, Arvika
DESCRIPTION:För vidare information se: krets.se
URL:https://hupk.se/event/tavling-precision-jossetavlan-arvika/
CATEGORIES:Precision
END:VEVENT
BEGIN:VEVENT
DTSTART;VALUE=DATE:20260606
DTEND;VALUE=DATE:20260607
DTSTAMP:20260419T152333
CREATED:20260105T171323Z
LAST-MODIFIED:20260105T171323Z
UID:1439-1780704000-1780790399@hupk.se
SUMMARY:IPSC prematch
DESCRIPTION:HUPK arrangerar
URL:https://hupk.se/event/ipsc-prematch/
END:VEVENT
BEGIN:VEVENT
DTSTART;VALUE=DATE:20260607
DTEND;VALUE=DATE:20260608
DTSTAMP:20260419T152333
CREATED:20260105T102139Z
LAST-MODIFIED:20260105T102139Z
UID:1379-1780790400-1780876799@hupk.se
SUMMARY:Tävling Precision Storfors
DESCRIPTION:För vidare information se: krets.se
URL:https://hupk.se/event/tavling-precision-storfors/
LOCATION:Storfors
CATEGORIES:Precision
END:VEVENT
BEGIN:VEVENT
DTSTART;VALUE=DATE:20260607
DTEND;VALUE=DATE:20260608
DTSTAMP:20260419T152333
CREATED:20260105T171416Z
LAST-MODIFIED:20260105T171416Z
UID:1441-1780790400-1780876799@hupk.se
SUMMARY:IPSC mainmatch
DESCRIPTION:HUPK arrangerar
URL:https://hupk.se/event/ipsc-mainmatch/
LOCATION:Vågbacken skjutbana\, Vågbacken skjutbana\, Hagfors\, 68340\, Sweden
CATEGORIES:IPSC
END:VEVENT
BEGIN:VEVENT
DTSTART;VALUE=DATE:20260613
DTEND;VALUE=DATE:20260615
DTSTAMP:20260419T152333
CREATED:20260105T102235Z
LAST-MODIFIED:20260105T102235Z
UID:1382-1781308800-1781481599@hupk.se
SUMMARY:VSM PPC
DESCRIPTION:För vidare information se: krets.se
URL:https://hupk.se/event/vsm-ppc/
LOCATION:Sörmon
CATEGORIES:PPC
END:VEVENT
BEGIN:VEVENT
DTSTART;VALUE=DATE:20260627
DTEND;VALUE=DATE:20260629
DTSTAMP:20260419T152333
CREATED:20260208T170804Z
LAST-MODIFIED:20260208T170804Z
UID:2468-1782518400-1782691199@hupk.se
SUMMARY:Magnumfält i Hagfors prel.
DESCRIPTION:
URL:https://hupk.se/event/magnumfalt-i-hagfors-prel/
END:VEVENT
END:VCALENDAR